Workbook
Name RaceName: '[1]Race Details'!$B$4 &" ("&'[1]Race Details'!$B$3&") "&'[1]Race Details'!$B$6&" Km Race"& " "&TEXT('[1]Race Details'!$B$5,"yyyy-mm-dd")

Sheet 10km
A1: =RaceName -> SPAR Valentine's Nite Race (Boland) 10 Km Race 2019-02-13
A2: Position | B2: Name | C2: Surname | D2: Club | E2: Licence No. | F2: Category | G2: Gender | H2: Age | I2: Race Time | J2: Comments
A3: 1 | B3: Nkosinathi | C3: Madyo | D3: Itheko | E3: 3188 | F3: Senior | G3: Male | H3: 31 | I3: 0.021643519 | J3: =IF(OR('10km'!$F3="",'10km'!$G3="",'10km'!$I3=""),"",IF(COUNTIFS($G$3:$G3,$G3,$F$3:$F3,$F3)>3,"",_xlfn.TEXTJOIN(" ",,COUNTIFS($G$3:$G3,$G3,$F$3:$F3,$F3)&IF(AND(MOD(ABS(COUNTIFS($G$3:$G3,$G3,$F$3:$F3,$F3)),100)>10,MOD(ABS(COUNTIFS($G$3:$G3,$G3,$F$3:$F3,$F3)),100)<14),"th",CHOOSE(MOD(ABS(COUNTIFS($G$3:$G3,$G3,$F$3:$F3,$F3)),10)+1,"th","st","nd","rd","th","th","th","th","th","th")),$F3,IF($G3="Male","Men","Lady")))) -> 1st Senior Men
A4: 2 | B4: Danzil | C4: Smith | D4: Sanlam | E4: 4555 | F4: Senior | G4: Male | H4: 25 | I4: 0.021689815 | J4: =IF(OR('10km'!$F4="",'10km'!$G4="",'10km'!$I4=""),"",IF(COUNTIFS($G$3:$G4,$G4,$F$3:$F4,$F4)>3,"",_xlfn.TEXTJOIN(" ",,COUNTIFS($G$3:$G4,$G4,$F$3:$F4,$F4)&IF(AND(MOD(ABS(COUNTIFS($G$3:$G4,$G4,$F$3:$F4,$F4)),100)>10,MOD(ABS(COUNTIFS($G$3:$G4,$G4,$F$3:$F4,$F4)),100)<14),"th",CHOOSE(MOD(ABS(COUNTIFS($G$3:$G4,$G4,$F$3:$F4,$F4)),10)+1,"th","st","nd","rd","th","th","th","th","th","th")),$F4,IF($G4="Male","Men","Lady")))) -> 2nd Senior Men
A5: 3 | B5: Morne | C5: Kammies | D5: Sanlam | E5: 4556 | F5: Senior | G5: Male | H5: 32 | I5: 0.022633333 | J5: =IF(OR('10km'!$F5="",'10km'!$G5="",'10km'!$I5=""),"",IF(COUNTIFS($G$3:$G5,$G5,$F$3:$F5,$F5)>3,"",_xlfn.TEXTJOIN(" ",,COUNTIFS($G$3:$G5,$G5,$F$3:$F5,$F5)&IF(AND(MOD(ABS(COUNTIFS($G$3:$G5,$G5,$F$3:$F5,$F5)),100)>10,MOD(ABS(COUNTIFS($G$3:$G5,$G5,$F$3:$F5,$F5)),100)<14),"th",CHOOSE(MOD(ABS(COUNTIFS($G$3:$G5,$G5,$F$3:$F5,$F5)),10)+1,"th","st","nd","rd","th","th","th","th","th","th")),$F5,IF($G5="Male","Men","Lady")))) -> 3rd Senior Men
A6: 4 | B6: Alantino | C6: Belillie | D6: Sanlam | E6: 4559 | F6: Senior | G6: Male | H6: 20 | I6: 0.022953356 | J6: =IF(OR('10km'!$F6="",'10km'!$G6="",'10km'!$I6=""),"",IF(COUNTIFS($G$3:$G6,$G6,$F$3:$F6,$F6)>3,"",_xlfn.TEXTJOIN(" ",,COUNTIFS($G$3:$G6,$G6,$F$3:$F6,$F6)&IF(AND(MOD(ABS(COUNTIFS($G$3:$G6,$G6,$F$3:$F6,$F6)),100)>10,MOD(ABS(COUNTIFS($G$3:$G6,$G6,$F$3:$F6,$F6)),100)<14),"th",CHOOSE(MOD(ABS(COUNTIFS($G$3:$G6,$G6,$F$3:$F6,$F6)),10)+1,"th","st","nd","rd","th","th","th","th","th","th")),$F6,IF($G6="Male","Men","Lady"))))
A7: 5 | B7: Phillip | D7: Temporary Licence | F7: Senior | G7: Male | H7: 38 | I7: 0.024435185 | J7: =IF(OR('10km'!$F7="",'10km'!$G7="",'10km'!$I7=""),"",IF(COUNTIFS($G$3:$G7,$G7,$F$3:$F7,$F7)>3,"",_xlfn.TEXTJOIN(" ",,COUNTIFS($G$3:$G7,$G7,$F$3:$F7,$F7)&IF(AND(MOD(ABS(COUNTIFS($G$3:$G7,$G7,$F$3:$F7,$F7)),100)>10,MOD(ABS(COUNTIFS($G$3:$G7,$G7,$F$3:$F7,$F7)),100)<14),"th",CHOOSE(MOD(ABS(COUNTIFS($G$3:$G7,$G7,$F$3:$F7,$F7)),10)+1,"th","st","nd","rd","th","th","th","th","th","th")),$F7,IF($G7="Male","Men","Lady"))))
A8: 6 | B8: Neo | C8: Molema | D8: Atlantic Athletic Club | E8: 9205 | F8: 40+ | G8: Male | H8: 42 | I8: 0.024496181 | J8: =IF(OR('10km'!$F8="",'10km'!$G8="",'10km'!$I8=""),"",IF(COUNTIFS($G$3:$G8,$G8,$F$3:$F8,$F8)>3,"",_xlfn.TEXTJOIN(" ",,COUNTIFS($G$3:$G8,$G8,$F$3:$F8,$F8)&IF(AND(MOD(ABS(COUNTIFS($G$3:$G8,$G8,$F$3:$F8,$F8)),100)>10,MOD(ABS(COUNTIFS($G$3:$G8,$G8,$F$3:$F8,$F8)),100)<14),"th",CHOOSE(MOD(ABS(COUNTIFS($G$3:$G8,$G8,$F$3:$F8,$F8)),10)+1,"th","st","nd","rd","th","th","th","th","th","th")),$F8,IF($G8="Male","Men","Lady")))) -> 1st 40+ Men
A9: 7 | B9: No Card | I9: 0.024965741 | J9: =IF(OR('10km'!$F9="",'10km'!$G9="",'10km'!$I9=""),"",IF(COUNTIFS($G$3:$G9,$G9,$F$3:$F9,$F9)>3,"",_xlfn.TEXTJOIN(" ",,COUNTIFS($G$3:$G9,$G9,$F$3:$F9,$F9)&IF(AND(MOD(ABS(COUNTIFS($G$3:$G9,$G9,$F$3:$F9,$F9)),100)>10,MOD(ABS(COUNTIFS($G$3:$G9,$G9,$F$3:$F9,$F9)),100)<14),"th",CHOOSE(MOD(ABS(COUNTIFS($G$3:$G9,$G9,$F$3:$F9,$F9)),10)+1,"th","st","nd","rd","th","th","th","th","th","th")),$F9,IF($G9="Male","Men","Lady"))))
A10: 8 | B10: Freek | C10: Biegenadl | D10: Worcester AC | E10: 596 | F10: Junior | G10: Male | H10: 18 | I10: 0.024971644 | J10: =IF(OR('10km'!$F10="",'10km'!$G10="",'10km'!$I10=""),"",IF(COUNTIFS($G$3:$G10,$G10,$F$3:$F10,$F10)>3,"",_xlfn.TEXTJOIN(" ",,COUNTIFS($G$3:$G10,$G10,$F$3:$F10,$F10)&IF(AND(MOD(ABS(COUNTIFS($G$3:$G10,$G10,$F$3:$F10,$F10)),100)>10,MOD(ABS(COUNTIFS($G$3:$G10,$G10,$F$3:$F10,$F10)),100)<14),"th",CHOOSE(MOD(ABS(COUNTIFS($G$3:$G10,$G10,$F$3:$F10,$F10)),10)+1,"th","st","nd","rd","th","th","th","th","th","th")),$F10,IF($G10="Male","Men","Lady")))) -> 1st Junior Men
A11: 9 | B11: Marqhuin | C11: Smit | D11: Ceres AC | E11: 581 | F11: Junior | G11: Male | H11: 19 | I11: 0.025060301 | J11: =IF(OR('10km'!$F11="",'10km'!$G11="",'10km'!$I11=""),"",IF(COUNTIFS($G$3:$G11,$G11,$F$3:$F11,$F11)>3,"",_xlfn.TEXTJOIN(" ",,COUNTIFS($G$3:$G11,$G11,$F$3:$F11,$F11)&IF(AND(MOD(ABS(COUNTIFS($G$3:$G11,$G11,$F$3:$F11,$F11)),100)>10,MOD(ABS(COUNTIFS($G$3:$G11,$G11,$F$3:$F11,$F11)),100)<14),"th",CHOOSE(MOD(ABS(COUNTIFS($G$3:$G11,$G11,$F$3:$F11,$F11)),10)+1,"th","st","nd","rd","th","th","th","th","th","th")),$F11,IF($G11="Male","Men","Lady")))) -> 2nd Junior Men
A12: 10 | B12: Sollie | C12: Van Rooyen | D12: Robertson AC | E12: 801 | F12: 50+ | G12: Male | H12: 55 | I12: 0.025772569 | J12: =IF(OR('10km'!$F12="",'10km'!$G12="",'10km'!$I12=""),"",IF(COUNTIFS($G$3:$G12,$G12,$F$3:$F12,$F12)>3,"",_xlfn.TEXTJOIN(" ",,COUNTIFS($G$3:$G12,$G12,$F$3:$F12,$F12)&IF(AND(MOD(ABS(COUNTIFS($G$3:$G12,$G12,$F$3:$F12,$F12)),100)>10,MOD(ABS(COUNTIFS($G$3:$G12,$G12,$F$3:$F12,$F12)),100)<14),"th",CHOOSE(MOD(ABS(COUNTIFS($G$3:$G12,$G12,$F$3:$F12,$F12)),10)+1,"th","st","nd","rd","th","th","th","th","th","th")),$F12,IF($G12="Male","Men","Lady")))) -> 1st 50+ Men
A13: 11 | B13: Reginald | C13: Lotz | D13: Temporary Licence | E13: 1070 | F13: Junior | G13: Male | H13: 18 | I13: 0.02647581 | J13: =IF(OR('10km'!$F13="",'10km'!$G13="",'10km'!$I13=""),"",IF(COUNTIFS($G$3:$G13,$G13,$F$3:$F13,$F13)>3,"",_xlfn.TEXTJOIN(" ",,COUNTIFS($G$3:$G13,$G13,$F$3:$F13,$F13)&IF(AND(MOD(ABS(COUNTIFS($G$3:$G13,$G13,$F$3:$F13,$F13)),100)>10,MOD(ABS(COUNTIFS($G$3:$G13,$G13,$F$3:$F13,$F13)),100)<14),"th",CHOOSE(MOD(ABS(COUNTIFS($G$3:$G13,$G13,$F$3:$F13,$F13)),10)+1,"th","st","nd","rd","th","th","th","th","th","th")),$F13,IF($G13="Male","Men","Lady")))) -> 3rd Junior Men
A14: 12 | B14: Morne | C14: Hansen | D14: Maties Stellenbosch AC | E14: 450 | F14: 40+ | G14: Male | H14: 41 | I14: 0.026996875 | J14: =IF(OR('10km'!$F14="",'10km'!$G14="",'10km'!$I14=""),"",IF(COUNTIFS($G$3:$G14,$G14,$F$3:$F14,$F14)>3,"",_xlfn.TEXTJOIN(" ",,COUNTIFS($G$3:$G14,$G14,$F$3:$F14,$F14)&IF(AND(MOD(ABS(COUNTIFS($G$3:$G14,$G14,$F$3:$F14,$F14)),100)>10,MOD(ABS(COUNTIFS($G$3:$G14,$G14,$F$3:$F14,$F14)),100)<14),"th",CHOOSE(MOD(ABS(COUNTIFS($G$3:$G14,$G14,$F$3:$F14,$F14)),10)+1,"th","st","nd","rd","th","th","th","th","th","th")),$F14,IF($G14="Male","Men","Lady")))) -> 2nd 40+ Men
A15: 13 | B15: Henriko | C15: Oberholzer | D15: Worcester AC | E15: 541 | F15: Senior | G15: Male | H15: 23 | I15: 0.027501157 | J15: =IF(OR('10km'!$F15="",'10km'!$G15="",'10km'!$I15=""),"",IF(COUNTIFS($G$3:$G15,$G15,$F$3:$F15,$F15)>3,"",_xlfn.TEXTJOIN(" ",,COUNTIFS($G$3:$G15,$G15,$F$3:$F15,$F15)&IF(AND(MOD(ABS(COUNTIFS($G$3:$G15,$G15,$F$3:$F15,$F15)),100)>10,MOD(ABS(COUNTIFS($G$3:$G15,$G15,$F$3:$F15,$F15)),100)<14),"th",CHOOSE(MOD(ABS(COUNTIFS($G$3:$G15,$G15,$F$3:$F15,$F15)),10)+1,"th","st","nd","rd","th","th","th","th","th","th")),$F15,IF($G15="Male","Men","Lady"))))
A16: 14 | B16: Rowan | C16: Prins | D16: Robertson AC | E16: 809 | F16: Senior | G16: Male | H16: 31 | I16: 0.027518171 | J16: =IF(OR('10km'!$F16="",'10km'!$G16="",'10km'!$I16=""),"",IF(COUNTIFS($G$3:$G16,$G16,$F$3:$F16,$F16)>3,"",_xlfn.TEXTJOIN(" ",,COUNTIFS($G$3:$G16,$G16,$F$3:$F16,$F16)&IF(AND(MOD(ABS(COUNTIFS($G$3:$G16,$G16,$F$3:$F16,$F16)),100)>10,MOD(ABS(COUNTIFS($G$3:$G16,$G16,$F$3:$F16,$F16)),100)<14),"th",CHOOSE(MOD(ABS(COUNTIFS($G$3:$G16,$G16,$F$3:$F16,$F16)),10)+1,"th","st","nd","rd","th","th","th","th","th","th")),$F16,IF($G16="Male","Men","Lady"))))
A17: 15 | B17: Phillip | C17: Naude | D17: Temporary Licence | E17: 1104 | F17: Senior | G17: Male | H17: 30 | I17: 0.028009838 | J17: =IF(OR('10km'!$F17="",'10km'!$G17="",'10km'!$I17=""),"",IF(COUNTIFS($G$3:$G17,$G17,$F$3:$F17,$F17)>3,"",_xlfn.TEXTJOIN(" ",,COUNTIFS($G$3:$G17,$G17,$F$3:$F17,$F17)&IF(AND(MOD(ABS(COUNTIFS($G$3:$G17,$G17,$F$3:$F17,$F17)),100)>10,MOD(ABS(COUNTIFS($G$3:$G17,$G17,$F$3:$F17,$F17)),100)<14),"th",CHOOSE(MOD(ABS(COUNTIFS($G$3:$G17,$G17,$F$3:$F17,$F17)),10)+1,"th","st","nd","rd","th","th","th","th","th","th")),$F17,IF($G17="Male","Men","Lady"))))
A18: 16 | B18: Ashwill | C18: Appolis | D18: Worcester AC | E18: 463 | F18: Junior | G18: Male | H18: 19 | I18: 0.028210301 | J18: =IF(OR('10km'!$F18="",'10km'!$G18="",'10km'!$I18=""),"",IF(COUNTIFS($G$3:$G18,$G18,$F$3:$F18,$F18)>3,"",_xlfn.TEXTJOIN(" ",,COUNTIFS($G$3:$G18,$G18,$F$3:$F18,$F18)&IF(AND(MOD(ABS(COUNTIFS($G$3:$G18,$G18,$F$3:$F18,$F18)),100)>10,MOD(ABS(COUNTIFS($G$3:$G18,$G18,$F$3:$F18,$F18)),100)<14),"th",CHOOSE(MOD(ABS(COUNTIFS($G$3:$G18,$G18,$F$3:$F18,$F18)),10)+1,"th","st","nd","rd","th","th","th","th","th","th")),$F18,IF($G18="Male","Men","Lady"))))
A19: 17 | B19: Hennie | C19: Moses | D19: Ceres AC | E19: 587 | F19: 50+ | G19: Male | H19: 59 | I19: 0.02837581 | J19: =IF(OR('10km'!$F19="",'10km'!$G19="",'10km'!$I19=""),"",IF(COUNTIFS($G$3:$G19,$G19,$F$3:$F19,$F19)>3,"",_xlfn.TEXTJOIN(" ",,COUNTIFS($G$3:$G19,$G19,$F$3:$F19,$F19)&IF(AND(MOD(ABS(COUNTIFS($G$3:$G19,$G19,$F$3:$F19,$F19)),100)>10,MOD(ABS(COUNTIFS($G$3:$G19,$G19,$F$3:$F19,$F19)),100)<14),"th",CHOOSE(MOD(ABS(COUNTIFS($G$3:$G19,$G19,$F$3:$F19,$F19)),10)+1,"th","st","nd","rd","th","th","th","th","th","th")),$F19,IF($G19="Male","Men","Lady")))) -> 2nd 50+ Men
A20: 18 | B20: Thomas | C20: Moses | D20: Worcester AC | E20: 494 | F20: 60+ | G20: Male | H20: 62 | I20: 0.028388079 | J20: =IF(OR('10km'!$F20="",'10km'!$G20="",'10km'!$I20=""),"",IF(COUNTIFS($G$3:$G20,$G20,$F$3:$F20,$F20)>3,"",_xlfn.TEXTJOIN(" ",,COUNTIFS($G$3:$G20,$G20,$F$3:$F20,$F20)&IF(AND(MOD(ABS(COUNTIFS($G$3:$G20,$G20,$F$3:$F20,$F20)),100)>10,MOD(ABS(COUNTIFS($G$3:$G20,$G20,$F$3:$F20,$F20)),100)<14),"th",CHOOSE(MOD(ABS(COUNTIFS($G$3:$G20,$G20,$F$3:$F20,$F20)),10)+1,"th","st","nd","rd","th","th","th","th","th","th")),$F20,IF($G20="Male","Men","Lady")))) -> 1st 60+ Men
A21: 19 | B21: Ann Maree | C21: Mostert | D21: Temporary Licence | E21: 1060 | F21: 40+ | G21: Female | H21: 44 | I21: 0.028553356 | J21: =IF(OR('10km'!$F21="",'10km'!$G21="",'10km'!$I21=""),"",IF(COUNTIFS($G$3:$G21,$G21,$F$3:$F21,$F21)>3,"",_xlfn.TEXTJOIN(" ",,COUNTIFS($G$3:$G21,$G21,$F$3:$F21,$F21)&IF(AND(MOD(ABS(COUNTIFS($G$3:$G21,$G21,$F$3:$F21,$F21)),100)>10,MOD(ABS(COUNTIFS($G$3:$G21,$G21,$F$3:$F21,$F21)),100)<14),"th",CHOOSE(MOD(ABS(COUNTIFS($G$3:$G21,$G21,$F$3:$F21,$F21)),10)+1,"th","st","nd","rd","th","th","th","th","th","th")),$F21,IF($G21="Male","Men","Lady")))) -> 1st 40+ Lady
... A30: 28 | B30: Marriette | C30: Strauss | D30: Tygerberg Athletic Club | E30: 4242 | F30: 50+ | G30: Female | H30: 56 | I30: 0.030934375 | J30: =IF(OR('10km'!$F30="",'10km'!$G30="",'10km'!$I30=""),"",IF(COUNTIFS($G$3:$G30,$G30,$F$3:$F30,$F30)>3,"",_xlfn.TEXTJOIN(" ",,COUNTIFS($G$3:$G30,$G30,$F$3:$F30,$F30)&IF(AND(MOD(ABS(COUNTIFS($G$3:$G30,$G30,$F$3:$F30,$F30)),100)>10,MOD(ABS(COUNTIFS($G$3:$G30,$G30,$F$3:$F30,$F30)),100)<14),"th",CHOOSE(MOD(ABS(COUNTIFS($G$3:$G30,$G30,$F$3:$F30,$F30)),10)+1,"th","st","nd","rd","th","th","th","th","th","th")),$F30,IF($G30="Male","Men","Lady")))) -> 1st 50+ Lady
A31: 29 | B31: Nicolene | D31: Temporary Licence | E31: 1076 | F31: Senior | G31: Female | H31: 25 | I31: 0.031005787 | J31: =IF(OR('10km'!$F31="",'10km'!$G31="",'10km'!$I31=""),"",IF(COUNTIFS($G$3:$G31,$G31,$F$3:$F31,$F31)>3,"",_xlfn.TEXTJOIN(" ",,COUNTIFS($G$3:$G31,$G31,$F$3:$F31,$F31)&IF(AND(MOD(ABS(COUNTIFS($G$3:$G31,$G31,$F$3:$F31,$F31)),100)>10,MOD(ABS(COUNTIFS($G$3:$G31,$G31,$F$3:$F31,$F31)),100)<14),"th",CHOOSE(MOD(ABS(COUNTIFS($G$3:$G31,$G31,$F$3:$F31,$F31)),10)+1,"th","st","nd","rd","th","th","th","th","th","th")),$F31,IF($G31="Male","Men","Lady")))) -> 3rd Senior Lady
A32: 30 | B32: Suzanne | C32: King | D32: Strand Athletic Club | E32: 3048 | F32: 40+ | G32: Female | H32: 47 | I32: 0.031026736 | J32: =IF(OR('10km'!$F32="",'10km'!$G32="",'10km'!$I32=""),"",IF(COUNTIFS($G$3:$G32,$G32,$F$3:$F32,$F32)>3,"",_xlfn.TEXTJOIN(" ",,COUNTIFS($G$3:$G32,$G32,$F$3:$F32,$F32)&IF(AND(MOD(ABS(COUNTIFS($G$3:$G32,$G32,$F$3:$F32,$F32)),100)>10,MOD(ABS(COUNTIFS($G$3:$G32,$G32,$F$3:$F32,$F32)),100)<14),"th",CHOOSE(MOD(ABS(COUNTIFS($G$3:$G32,$G32,$F$3:$F32,$F32)),10)+1,"th","st","nd","rd","th","th","th","th","th","th")),$F32,IF($G32="Male","Men","Lady")))) -> 2nd 40+ Lady
A33: 31 | B33: Phenyo | C33: Peloenk | D33: Langa | E33: 9529 | F33: Senior | G33: Male | H33: 35 | I33: 0.031158912 | J33: =IF(OR('10km'!$F33="",'10km'!$G33="",'10km'!$I33=""),"",IF(COUNTIFS($G$3:$G33,$G33,$F$3:$F33,$F33)>3,"",_xlfn.TEXTJOIN(" ",,COUNTIFS($G$3:$G33,$G33,$F$3:$F33,$F33)&IF(AND(MOD(ABS(COUNTIFS($G$3:$G33,$G33,$F$3:$F33,$F33)),100)>10,MOD(ABS(COUNTIFS($G$3:$G33,$G33,$F$3:$F33,$F33)),100)<14),"th",CHOOSE(MOD(ABS(COUNTIFS($G$3:$G33,$G33,$F$3:$F33,$F33)),10)+1,"th","st","nd","rd","th","th","th","th","th","th")),$F33,IF($G33="Male","Men","Lady"))))
A34: 32 | B34: R. A | C34: Morrison | D34: Saps wp | E34: 6293 | F34: 50+ | G34: Male | H34: 54 | I34: 0.031833333 | J34: =IF(OR('10km'!$F34="",'10km'!$G34="",'10km'!$I34=""),"",IF(COUNTIFS($G$3:$G34,$G34,$F$3:$F34,$F34)>3,"",_xlfn.TEXTJOIN(" ",,COUNTIFS($G$3:$G34,$G34,$F$3:$F34,$F34)&IF(AND(MOD(ABS(COUNTIFS($G$3:$G34,$G34,$F$3:$F34,$F34)),100)>10,MOD(ABS(COUNTIFS($G$3:$G34,$G34,$F$3:$F34,$F34)),100)<14),"th",CHOOSE(MOD(ABS(COUNTIFS($G$3:$G34,$G34,$F$3:$F34,$F34)),10)+1,"th","st","nd","rd","th","th","th","th","th","th")),$F34,IF($G34="Male","Men","Lady"))))
A35: 33 | B35: Andries | C35: Swarts | D35: Ceres AC | E35: 579 | F35: 50+ | G35: Male | H35: 55 | I35: 0.032165509 | J35: =IF(OR('10km'!$F35="",'10km'!$G35="",'10km'!$I35=""),"",IF(COUNTIFS($G$3:$G35,$G35,$F$3:$F35,$F35)>3,"",_xlfn.TEXTJOIN(" ",,COUNTIFS($G$3:$G35,$G35,$F$3:$F35,$F35)&IF(AND(MOD(ABS(COUNTIFS($G$3:$G35,$G35,$F$3:$F35,$F35)),100)>10,MOD(ABS(COUNTIFS($G$3:$G35,$G35,$F$3:$F35,$F35)),100)<14),"th",CHOOSE(MOD(ABS(COUNTIFS($G$3:$G35,$G35,$F$3:$F35,$F35)),10)+1,"th","st","nd","rd","th","th","th","th","th","th")),$F35,IF($G35="Male","Men","Lady"))))
A36: 34 | B36: Jaco | C36: Engelbrecht | D36: Worcester AC | E36: 568 | F36: Senior | G36: Male | H36: 33 | I36: 0.032574537 | J36: =IF(OR('10km'!$F36="",'10km'!$G36="",'10km'!$I36=""),"",IF(COUNTIFS($G$3:$G36,$G36,$F$3:$F36,$F36)>3,"",_xlfn.TEXTJOIN(" ",,COUNTIFS($G$3:$G36,$G36,$F$3:$F36,$F36)&IF(AND(MOD(ABS(COUNTIFS($G$3:$G36,$G36,$F$3:$F36,$F36)),100)>10,MOD(ABS(COUNTIFS($G$3:$G36,$G36,$F$3:$F36,$F36)),100)<14),"th",CHOOSE(MOD(ABS(COUNTIFS($G$3:$G36,$G36,$F$3:$F36,$F36)),10)+1,"th","st","nd","rd","th","th","th","th","th","th")),$F36,IF($G36="Male","Men","Lady"))))
A37: 35 | B37: Ronelda | C37: Vellem | D37: Maties Stellenbosch AC | E37: 1850 | F37: Junior | G37: Female | H37: 19 | I37: 0.032601505 | J37: =IF(OR('10km'!$F37="",'10km'!$G37="",'10km'!$I37=""),"",IF(COUNTIFS($G$3:$G37,$G37,$F$3:$F37,$F37)>3,"",_xlfn.TEXTJOIN(" ",,COUNTIFS($G$3:$G37,$G37,$F$3:$F37,$F37)&IF(AND(MOD(ABS(COUNTIFS($G$3:$G37,$G37,$F$3:$F37,$F37)),100)>10,MOD(ABS(COUNTIFS($G$3:$G37,$G37,$F$3:$F37,$F37)),100)<14),"th",CHOOSE(MOD(ABS(COUNTIFS($G$3:$G37,$G37,$F$3:$F37,$F37)),10)+1,"th","st","nd","rd","th","th","th","th","th","th")),$F37,IF($G37="Male","Men","Lady")))) -> 2nd Junior Lady
A38: 36 | B38: Phillip-John | C38: Du Toit | D38: Nedbank WP | E38: 2201 | F38: Senior | G38: Male | H38: 26 | I38: 0.032610764 | J38: =IF(OR('10km'!$F38="",'10km'!$G38="",'10km'!$I38=""),"",IF(COUNTIFS($G$3:$G38,$G38,$F$3:$F38,$F38)>3,"",_xlfn.TEXTJOIN(" ",,COUNTIFS($G$3:$G38,$G38,$F$3:$F38,$F38)&IF(AND(MOD(ABS(COUNTIFS($G$3:$G38,$G38,$F$3:$F38,$F38)),100)>10,MOD(ABS(COUNTIFS($G$3:$G38,$G38,$F$3:$F38,$F38)),100)<14),"th",CHOOSE(MOD(ABS(COUNTIFS($G$3:$G38,$G38,$F$3:$F38,$F38)),10)+1,"th","st","nd","rd","th","th","th","th","th","th")),$F38,IF($G38="Male","Men","Lady"))))
A39: 37 | B39: Leon | C39: Janse van Rensburg | D39: Nedbank WP | E39: 2150 | F39: Senior | G39: Male | H39: 26 | I39: 0.032767361 | J39: =IF(OR('10km'!$F39="",'10km'!$G39="",'10km'!$I39=""),"",IF(COUNTIFS($G$3:$G39,$G39,$F$3:$F39,$F39)>3,"",_xlfn.TEXTJOIN(" ",,COUNTIFS($G$3:$G39,$G39,$F$3:$F39,$F39)&IF(AND(MOD(ABS(COUNTIFS($G$3:$G39,$G39,$F$3:$F39,$F39)),100)>10,MOD(ABS(COUNTIFS($G$3:$G39,$G39,$F$3:$F39,$F39)),100)<14),"th",CHOOSE(MOD(ABS(COUNTIFS($G$3:$G39,$G39,$F$3:$F39,$F39)),10)+1,"th","st","nd","rd","th","th","th","th","th","th")),$F39,IF($G39="Male","Men","Lady"))))
A40: 38 | B40: Chestley | C40: Saaiman | D40: Temporary Licence | E40: 1056 | F40: Senior | G40: Male | H40: 30 | I40: 0.033074306 | J40: =IF(OR('10km'!$F40="",'10km'!$G40="",'10km'!$I40=""),"",IF(COUNTIFS($G$3:$G40,$G40,$F$3:$F40,$F40)>3,"",_xlfn.TEXTJOIN(" ",,COUNTIFS($G$3:$G40,$G40,$F$3:$F40,$F40)&IF(AND(MOD(ABS(COUNTIFS($G$3:$G40,$G40,$F$3:$F40,$F40)),100)>10,MOD(ABS(COUNTIFS($G$3:$G40,$G40,$F$3:$F40,$F40)),100)<14),"th",CHOOSE(MOD(ABS(COUNTIFS($G$3:$G40,$G40,$F$3:$F40,$F40)),10)+1,"th","st","nd","rd","th","th","th","th","th","th")),$F40,IF($G40="Male","Men","Lady"))))
A41: 39 | B41: Abigail | C41: Botes | D41: Maties Stellenbosch AC | E41: 1842 | F41: Junior | G41: Female | H41: 18 | I41: 0.033339931 | J41: =IF(OR('10km'!$F41="",'10km'!$G41="",'10km'!$I41=""),"",IF(COUNTIFS($G$3:$G41,$G41,$F$3:$F41,$F41)>3,"",_xlfn.TEXTJOIN(" ",,COUNTIFS($G$3:$G41,$G41,$F$3:$F41,$F41)&IF(AND(MOD(ABS(COUNTIFS($G$3:$G41,$G41,$F$3:$F41,$F41)),100)>10,MOD(ABS(COUNTIFS($G$3:$G41,$G41,$F$3:$F41,$F41)),100)<14),"th",CHOOSE(MOD(ABS(COUNTIFS($G$3:$G41,$G41,$F$3:$F41,$F41)),10)+1,"th","st","nd","rd","th","th","th","th","th","th")),$F41,IF($G41="Male","Men","Lady")))) -> 3rd Junior Lady
A42: 40 | B42: Christo | C42: Lourens | D42: Brackenfell Athletic Club | E42: 9602 | F42: Senior | G42: Male | H42: 28 | I42: 0.033437731 | J42: =IF(OR('10km'!$F42="",'10km'!$G42="",'10km'!$I42=""),"",IF(COUNTIFS($G$3:$G42,$G42,$F$3:$F42,$F42)>3,"",_xlfn.TEXTJOIN(" ",,COUNTIFS($G$3:$G42,$G42,$F$3:$F42,$F42)&IF(AND(MOD(ABS(COUNTIFS($G$3:$G42,$G42,$F$3:$F42,$F42)),100)>10,MOD(ABS(COUNTIFS($G$3:$G42,$G42,$F$3:$F42,$F42)),100)<14),"th",CHOOSE(MOD(ABS(COUNTIFS($G$3:$G42,$G42,$F$3:$F42,$F42)),10)+1,"th","st","nd","rd","th","th","th","th","th","th")),$F42,IF($G42="Male","Men","Lady"))))
A43: 41 | B43: Reganald | C43: Crowster | D43: Tygerberg Athletic Club | E43: 5599 | F43: 50+ | G43: Male | H43: 56 | I43: 0.033467593 | J43: =IF(OR('10km'!$F43="",'10km'!$G43="",'10km'!$I43=""),"",IF(COUNTIFS($G$3:$G43,$G43,$F$3:$F43,$F43)>3,"",_xlfn.TEXTJOIN(" ",,COUNTIFS($G$3:$G43,$G43,$F$3:$F43,$F43)&IF(AND(MOD(ABS(COUNTIFS($G$3:$G43,$G43,$F$3:$F43,$F43)),100)>10,MOD(ABS(COUNTIFS($G$3:$G43,$G43,$F$3:$F43,$F43)),100)<14),"th",CHOOSE(MOD(ABS(COUNTIFS($G$3:$G43,$G43,$F$3:$F43,$F43)),10)+1,"th","st","nd","rd","th","th","th","th","th","th")),$F43,IF($G43="Male","Men","Lady"))))
... A48: 46 | B48: Colin | C48: Anthony | D48: Correctional Services (Boland) | E48: 1211 | F48: 50+ | G48: Male | H48: 57 | I48: 0.034097338 | J48: =IF(OR('10km'!$F48="",'10km'!$G48="",'10km'!$I48=""),"",IF(COUNTIFS($G$3:$G48,$G48,$F$3:$F48,$F48)>3,"",_xlfn.TEXTJOIN(" ",,COUNTIFS($G$3:$G48,$G48,$F$3:$F48,$F48)&IF(AND(MOD(ABS(COUNTIFS($G$3:$G48,$G48,$F$3:$F48,$F48)),100)>10,MOD(ABS(COUNTIFS($G$3:$G48,$G48,$F$3:$F48,$F48)),100)<14),"th",CHOOSE(MOD(ABS(COUNTIFS($G$3:$G48,$G48,$F$3:$F48,$F48)),10)+1,"th","st","nd","rd","th","th","th","th","th","th")),$F48,IF($G48="Male","Men","Lady"))))
A49: 47 | B49: Lola | C49: van der Merwe | D49: Temporary Licence | F49: 40+ | G49: Female | H49: 42 | I49: 0.034403472 | J49: =IF(OR('10km'!$F49="",'10km'!$G49="",'10km'!$I49=""),"",IF(COUNTIFS($G$3:$G49,$G49,$F$3:$F49,$F49)>3,"",_xlfn.TEXTJOIN(" ",,COUNTIFS($G$3:$G49,$G49,$F$3:$F49,$F49)&IF(AND(MOD(ABS(COUNTIFS($G$3:$G49,$G49,$F$3:$F49,$F49)),100)>10,MOD(ABS(COUNTIFS($G$3:$G49,$G49,$F$3:$F49,$F49)),100)<14),"th",CHOOSE(MOD(ABS(COUNTIFS($G$3:$G49,$G49,$F$3:$F49,$F49)),10)+1,"th","st","nd","rd","th","th","th","th","th","th")),$F49,IF($G49="Male","Men","Lady")))) -> 3rd 40+ Lady
A50: 48 | B50: Maryna | C50: Bingle | D50: Cape Multi Sport | E50: 7571 | F50: 50+ | G50: Female | H50: 54 | I50: 0.034907639 | J50: =IF(OR('10km'!$F50="",'10km'!$G50="",'10km'!$I50=""),"",IF(COUNTIFS($G$3:$G50,$G50,$F$3:$F50,$F50)>3,"",_xlfn.TEXTJOIN(" ",,COUNTIFS($G$3:$G50,$G50,$F$3:$F50,$F50)&IF(AND(MOD(ABS(COUNTIFS($G$3:$G50,$G50,$F$3:$F50,$F50)),100)>10,MOD(ABS(COUNTIFS($G$3:$G50,$G50,$F$3:$F50,$F50)),100)<14),"th",CHOOSE(MOD(ABS(COUNTIFS($G$3:$G50,$G50,$F$3:$F50,$F50)),10)+1,"th","st","nd","rd","th","th","th","th","th","th")),$F50,IF($G50="Male","Men","Lady")))) -> 3rd 50+ Lady
A51: 49 | B51: Jasper | C51: Hewitt | D51: Worcester AC | F51: 40+ | G51: Male | H51: 48 | I51: 0.035035301 | J51: =IF(OR('10km'!$F51="",'10km'!$G51="",'10km'!$I51=""),"",IF(COUNTIFS($G$3:$G51,$G51,$F$3:$F51,$F51)>3,"",_xlfn.TEXTJOIN(" ",,COUNTIFS($G$3:$G51,$G51,$F$3:$F51,$F51)&IF(AND(MOD(ABS(COUNTIFS($G$3:$G51,$G51,$F$3:$F51,$F51)),100)>10,MOD(ABS(COUNTIFS($G$3:$G51,$G51,$F$3:$F51,$F51)),100)<14),"th",CHOOSE(MOD(ABS(COUNTIFS($G$3:$G51,$G51,$F$3:$F51,$F51)),10)+1,"th","st","nd","rd","th","th","th","th","th","th")),$F51,IF($G51="Male","Men","Lady"))))
A52: 50 | B52: J | C52: Davel | D52: Temporary Licence | F52: 60+ | G52: Male | H52: 65 | I52: 0.035066782 | J52: =IF(OR('10km'!$F52="",'10km'!$G52="",'10km'!$I52=""),"",IF(COUNTIFS($G$3:$G52,$G52,$F$3:$F52,$F52)>3,"",_xlfn.TEXTJOIN(" ",,COUNTIFS($G$3:$G52,$G52,$F$3:$F52,$F52)&IF(AND(MOD(ABS(COUNTIFS($G$3:$G52,$G52,$F$3:$F52,$F52)),100)>10,MOD(ABS(COUNTIFS($G$3:$G52,$G52,$F$3:$F52,$F52)),100)<14),"th",CHOOSE(MOD(ABS(COUNTIFS($G$3:$G52,$G52,$F$3:$F52,$F52)),10)+1,"th","st","nd","rd","th","th","th","th","th","th")),$F52,IF($G52="Male","Men","Lady")))) -> 3rd 60+ Men
A53: 51 | B53: Judith | C53: Grove | D53: Tygerberg Athletic Club | E53: 5553 | F53: 60+ | G53: Female | H53: 65 | I53: 0.035754745 | J53: =IF(OR('10km'!$F53="",'10km'!$G53="",'10km'!$I53=""),"",IF(COUNTIFS($G$3:$G53,$G53,$F$3:$F53,$F53)>3,"",_xlfn.TEXTJOIN(" ",,COUNTIFS($G$3:$G53,$G53,$F$3:$F53,$F53)&IF(AND(MOD(ABS(COUNTIFS($G$3:$G53,$G53,$F$3:$F53,$F53)),100)>10,MOD(ABS(COUNTIFS($G$3:$G53,$G53,$F$3:$F53,$F53)),100)<14),"th",CHOOSE(MOD(ABS(COUNTIFS($G$3:$G53,$G53,$F$3:$F53,$F53)),10)+1,"th","st","nd","rd","th","th","th","th","th","th")),$F53,IF($G53="Male","Men","Lady")))) -> 1st 60+ Lady
A54: 52 | B54: Stephan | C54: Swanepoel | D54: Temporary Licence | E54: 1105 | F54: Senior | G54: Male | H54: 32 | I54: 0.036200926 | J54: =IF(OR('10km'!$F54="",'10km'!$G54="",'10km'!$I54=""),"",IF(COUNTIFS($G$3:$G54,$G54,$F$3:$F54,$F54)>3,"",_xlfn.TEXTJOIN(" ",,COUNTIFS($G$3:$G54,$G54,$F$3:$F54,$F54)&IF(AND(MOD(ABS(COUNTIFS($G$3:$G54,$G54,$F$3:$F54,$F54)),100)>10,MOD(ABS(COUNTIFS($G$3:$G54,$G54,$F$3:$F54,$F54)),100)<14),"th",CHOOSE(MOD(ABS(COUNTIFS($G$3:$G54,$G54,$F$3:$F54,$F54)),10)+1,"th","st","nd","rd","th","th","th","th","th","th")),$F54,IF($G54="Male","Men","Lady"))))
A55: 53 | B55: Siyanda | D55: Temporary Licence | E55: 1059 | F55: Senior | G55: Male | H55: 27 | I55: 0.036278125 | J55: =IF(OR('10km'!$F55="",'10km'!$G55="",'10km'!$I55=""),"",IF(COUNTIFS($G$3:$G55,$G55,$F$3:$F55,$F55)>3,"",_xlfn.TEXTJOIN(" ",,COUNTIFS($G$3:$G55,$G55,$F$3:$F55,$F55)&IF(AND(MOD(ABS(COUNTIFS($G$3:$G55,$G55,$F$3:$F55,$F55)),100)>10,MOD(ABS(COUNTIFS($G$3:$G55,$G55,$F$3:$F55,$F55)),100)<14),"th",CHOOSE(MOD(ABS(COUNTIFS($G$3:$G55,$G55,$F$3:$F55,$F55)),10)+1,"th","st","nd","rd","th","th","th","th","th","th")),$F55,IF($G55="Male","Men","Lady"))))
A56: 54 | B56: Andrew | C56: Coetzee | D56: Temporary Licence | F56: Senior | G56: Male | H56: 30 | I56: 0.036430556 | J56: =IF(OR('10km'!$F56="",'10km'!$G56="",'10km'!$I56=""),"",IF(COUNTIFS($G$3:$G56,$G56,$F$3:$F56,$F56)>3,"",_xlfn.TEXTJOIN(" ",,COUNTIFS($G$3:$G56,$G56,$F$3:$F56,$F56)&IF(AND(MOD(ABS(COUNTIFS($G$3:$G56,$G56,$F$3:$F56,$F56)),100)>10,MOD(ABS(COUNTIFS($G$3:$G56,$G56,$F$3:$F56,$F56)),100)<14),"th",CHOOSE(MOD(ABS(COUNTIFS($G$3:$G56,$G56,$F$3:$F56,$F56)),10)+1,"th","st","nd","rd","th","th","th","th","th","th")),$F56,IF($G56="Male","Men","Lady"))))
A57: 55 | B57: Chris | C57: Byleveld | D57: Temporary Licence | E57: 1177 | F57: 40+ | G57: Male | H57: 47 | I57: 0.036453704 | J57: =IF(OR('10km'!$F57="",'10km'!$G57="",'10km'!$I57=""),"",IF(COUNTIFS($G$3:$G57,$G57,$F$3:$F57,$F57)>3,"",_xlfn.TEXTJOIN(" ",,COUNTIFS($G$3:$G57,$G57,$F$3:$F57,$F57)&IF(AND(MOD(ABS(COUNTIFS($G$3:$G57,$G57,$F$3:$F57,$F57)),100)>10,MOD(ABS(COUNTIFS($G$3:$G57,$G57,$F$3:$F57,$F57)),100)<14),"th",CHOOSE(MOD(ABS(COUNTIFS($G$3:$G57,$G57,$F$3:$F57,$F57)),10)+1,"th","st","nd","rd","th","th","th","th","th","th")),$F57,IF($G57="Male","Men","Lady"))))
A58: 56 | B58: Dumisani | C58: Mapete | D58: Correctional Services (Boland) | E58: 1131 | F58: 40+ | G58: Male | H58: 43 | I58: 0.036473727 | J58: =IF(OR('10km'!$F58="",'10km'!$G58="",'10km'!$I58=""),"",IF(COUNTIFS($G$3:$G58,$G58,$F$3:$F58,$F58)>3,"",_xlfn.TEXTJOIN(" ",,COUNTIFS($G$3:$G58,$G58,$F$3:$F58,$F58)&IF(AND(MOD(ABS(COUNTIFS($G$3:$G58,$G58,$F$3:$F58,$F58)),100)>10,MOD(ABS(COUNTIFS($G$3:$G58,$G58,$F$3:$F58,$F58)),100)<14),"th",CHOOSE(MOD(ABS(COUNTIFS($G$3:$G58,$G58,$F$3:$F58,$F58)),10)+1,"th","st","nd","rd","th","th","th","th","th","th")),$F58,IF($G58="Male","Men","Lady"))))
A59: 57 | B59: M | C59: Wessels | D59: Temporary Licence | F59: 50+ | G59: Female | H59: 55 | I59: 0.036490162 | J59: =IF(OR('10km'!$F59="",'10km'!$G59="",'10km'!$I59=""),"",IF(COUNTIFS($G$3:$G59,$G59,$F$3:$F59,$F59)>3,"",_xlfn.TEXTJOIN(" ",,COUNTIFS($G$3:$G59,$G59,$F$3:$F59,$F59)&IF(AND(MOD(ABS(COUNTIFS($G$3:$G59,$G59,$F$3:$F59,$F59)),100)>10,MOD(ABS(COUNTIFS($G$3:$G59,$G59,$F$3:$F59,$F59)),100)<14),"th",CHOOSE(MOD(ABS(COUNTIFS($G$3:$G59,$G59,$F$3:$F59,$F59)),10)+1,"th","st","nd","rd","th","th","th","th","th","th")),$F59,IF($G59="Male","Men","Lady"))))
A60: 58 | B60: No Card | I60: 0.036520833 | J60: =IF(OR('10km'!$F60="",'10km'!$G60="",'10km'!$I60=""),"",IF(COUNTIFS($G$3:$G60,$G60,$F$3:$F60,$F60)>3,"",_xlfn.TEXTJOIN(" ",,COUNTIFS($G$3:$G60,$G60,$F$3:$F60,$F60)&IF(AND(MOD(ABS(COUNTIFS($G$3:$G60,$G60,$F$3:$F60,$F60)),100)>10,MOD(ABS(COUNTIFS($G$3:$G60,$G60,$F$3:$F60,$F60)),100)<14),"th",CHOOSE(MOD(ABS(COUNTIFS($G$3:$G60,$G60,$F$3:$F60,$F60)),10)+1,"th","st","nd","rd","th","th","th","th","th","th")),$F60,IF($G60="Male","Men","Lady"))))
A61: 59 | B61: Natale | C61: Roelofse | D61: Worcester AC | E61: 511 | F61: 60+ | G61: Male | H61: 65 | I61: 0.036534722 | J61: =IF(OR('10km'!$F61="",'10km'!$G61="",'10km'!$I61=""),"",IF(COUNTIFS($G$3:$G61,$G61,$F$3:$F61,$F61)>3,"",_xlfn.TEXTJOIN(" ",,COUNTIFS($G$3:$G61,$G61,$F$3:$F61,$F61)&IF(AND(MOD(ABS(COUNTIFS($G$3:$G61,$G61,$F$3:$F61,$F61)),100)>10,MOD(ABS(COUNTIFS($G$3:$G61,$G61,$F$3:$F61,$F61)),100)<14),"th",CHOOSE(MOD(ABS(COUNTIFS($G$3:$G61,$G61,$F$3:$F61,$F61)),10)+1,"th","st","nd","rd","th","th","th","th","th","th")),$F61,IF($G61="Male","Men","Lady"))))
A62: 60 | B62: Danie | C62: Du Plessis | D62: Temporary Licence | E62: 1089 | F62: 50+ | G62: Male | H62: 50 | I62: 0.036541667 | J62: =IF(OR('10km'!$F62="",'10km'!$G62="",'10km'!$I62=""),"",IF(COUNTIFS($G$3:$G62,$G62,$F$3:$F62,$F62)>3,"",_xlfn.TEXTJOIN(" ",,COUNTIFS($G$3:$G62,$G62,$F$3:$F62,$F62)&IF(AND(MOD(ABS(COUNTIFS($G$3:$G62,$G62,$F$3:$F62,$F62)),100)>10,MOD(ABS(COUNTIFS($G$3:$G62,$G62,$F$3:$F62,$F62)),100)<14),"th",CHOOSE(MOD(ABS(COUNTIFS($G$3:$G62,$G62,$F$3:$F62,$F62)),10)+1,"th","st","nd","rd","th","th","th","th","th","th")),$F62,IF($G62="Male","Men","Lady"))))
A63: 61 | B63: Brian | C63: Rothman | D63: Brackenfell Athletic Club | E63: 9853 | F63: 60+ | G63: Male | H63: 65 | I63: 0.036553935 | J63: =IF(OR('10km'!$F63="",'10km'!$G63="",'10km'!$I63=""),"",IF(COUNTIFS($G$3:$G63,$G63,$F$3:$F63,$F63)>3,"",_xlfn.TEXTJOIN(" ",,COUNTIFS($G$3:$G63,$G63,$F$3:$F63,$F63)&IF(AND(MOD(ABS(COUNTIFS($G$3:$G63,$G63,$F$3:$F63,$F63)),100)>10,MOD(ABS(COUNTIFS($G$3:$G63,$G63,$F$3:$F63,$F63)),100)<14),"th",CHOOSE(MOD(ABS(COUNTIFS($G$3:$G63,$G63,$F$3:$F63,$F63)),10)+1,"th","st","nd","rd","th","th","th","th","th","th")),$F63,IF($G63="Male","Men","Lady"))))
A64: 62 | B64: No Card | I64: 0.03656331 | J64: =IF(OR('10km'!$F64="",'10km'!$G64="",'10km'!$I64=""),"",IF(COUNTIFS($G$3:$G64,$G64,$F$3:$F64,$F64)>3,"",_xlfn.TEXTJOIN(" ",,COUNTIFS($G$3:$G64,$G64,$F$3:$F64,$F64)&IF(AND(MOD(ABS(COUNTIFS($G$3:$G64,$G64,$F$3:$F64,$F64)),100)>10,MOD(ABS(COUNTIFS($G$3:$G64,$G64,$F$3:$F64,$F64)),100)<14),"th",CHOOSE(MOD(ABS(COUNTIFS($G$3:$G64,$G64,$F$3:$F64,$F64)),10)+1,"th","st","nd","rd","th","th","th","th","th","th")),$F64,IF($G64="Male","Men","Lady"))))
A65: 63 | B65: Dennis | C65: Smith | D65: SAPS | F65: 50+ | G65: Male | H65: 54 | I65: 0.03657338 | J65: =IF(OR('10km'!$F65="",'10km'!$G65="",'10km'!$I65=""),"",IF(COUNTIFS($G$3:$G65,$G65,$F$3:$F65,$F65)>3,"",_xlfn.TEXTJOIN(" ",,COUNTIFS($G$3:$G65,$G65,$F$3:$F65,$F65)&IF(AND(MOD(ABS(COUNTIFS($G$3:$G65,$G65,$F$3:$F65,$F65)),100)>10,MOD(ABS(COUNTIFS($G$3:$G65,$G65,$F$3:$F65,$F65)),100)<14),"th",CHOOSE(MOD(ABS(COUNTIFS($G$3:$G65,$G65,$F$3:$F65,$F65)),10)+1,"th","st","nd","rd","th","th","th","th","th","th")),$F65,IF($G65="Male","Men","Lady"))))
A66: 64 | B66: Francois | C66: De Villiers | D66: Ceres AC | E66: 606 | F66: 40+ | G66: Male | H66: 44 | I66: 0.037108333 | J66: =IF(OR('10km'!$F66="",'10km'!$G66="",'10km'!$I66=""),"",IF(COUNTIFS($G$3:$G66,$G66,$F$3:$F66,$F66)>3,"",_xlfn.TEXTJOIN(" ",,COUNTIFS($G$3:$G66,$G66,$F$3:$F66,$F66)&IF(AND(MOD(ABS(COUNTIFS($G$3:$G66,$G66,$F$3:$F66,$F66)),100)>10,MOD(ABS(COUNTIFS($G$3:$G66,$G66,$F$3:$F66,$F66)),100)<14),"th",CHOOSE(MOD(ABS(COUNTIFS($G$3:$G66,$G66,$F$3:$F66,$F66)),10)+1,"th","st","nd","rd","th","th","th","th","th","th")),$F66,IF($G66="Male","Men","Lady"))))
A67: 65 | B67: Rinus | C67: Carstens | D67: Temporary Licence | F67: Senior | G67: Male | H67: 23 | I67: 0.037121875 | J67: =IF(OR('10km'!$F67="",'10km'!$G67="",'10km'!$I67=""),"",IF(COUNTIFS($G$3:$G67,$G67,$F$3:$F67,$F67)>3,"",_xlfn.TEXTJOIN(" ",,COUNTIFS($G$3:$G67,$G67,$F$3:$F67,$F67)&IF(AND(MOD(ABS(COUNTIFS($G$3:$G67,$G67,$F$3:$F67,$F67)),100)>10,MOD(ABS(COUNTIFS($G$3:$G67,$G67,$F$3:$F67,$F67)),100)<14),"th",CHOOSE(MOD(ABS(COUNTIFS($G$3:$G67,$G67,$F$3:$F67,$F67)),10)+1,"th","st","nd","rd","th","th","th","th","th","th")),$F67,IF($G67="Male","Men","Lady"))))
A68: 67 | B68: Willem | C68: Steyn | D68: Worcester AC | E68: 1086 | F68: Senior | G68: Male | H68: 25 | I68: 0.037274306 | J68: =IF(OR('10km'!$F68="",'10km'!$G68="",'10km'!$I68=""),"",IF(COUNTIFS($G$3:$G68,$G68,$F$3:$F68,$F68)>3,"",_xlfn.TEXTJOIN(" ",,COUNTIFS($G$3:$G68,$G68,$F$3:$F68,$F68)&IF(AND(MOD(ABS(COUNTIFS($G$3:$G68,$G68,$F$3:$F68,$F68)),100)>10,MOD(ABS(COUNTIFS($G$3:$G68,$G68,$F$3:$F68,$F68)),100)<14),"th",CHOOSE(MOD(ABS(COUNTIFS($G$3:$G68,$G68,$F$3:$F68,$F68)),10)+1,"th","st","nd","rd","th","th","th","th","th","th")),$F68,IF($G68="Male","Men","Lady"))))
A69: 68 | B69: Tariq | C69: Desai | D69: Temporary Licence | E69: 1084 | F69: Senior | G69: Male | H69: 26 | I69: 0.037291667 | J69: =IF(OR('10km'!$F69="",'10km'!$G69="",'10km'!$I69=""),"",IF(COUNTIFS($G$3:$G69,$G69,$F$3:$F69,$F69)>3,"",_xlfn.TEXTJOIN(" ",,COUNTIFS($G$3:$G69,$G69,$F$3:$F69,$F69)&IF(AND(MOD(ABS(COUNTIFS($G$3:$G69,$G69,$F$3:$F69,$F69)),100)>10,MOD(ABS(COUNTIFS($G$3:$G69,$G69,$F$3:$F69,$F69)),100)<14),"th",CHOOSE(MOD(ABS(COUNTIFS($G$3:$G69,$G69,$F$3:$F69,$F69)),10)+1,"th","st","nd","rd","th","th","th","th","th","th")),$F69,IF($G69="Male","Men","Lady"))))
A70: 69 | B70: Marno | C70: Botma | D70: Temporary Licence | F70: Senior | G70: Male | H70: 39 | I70: 0.037336806 | J70: =IF(OR('10km'!$F70="",'10km'!$G70="",'10km'!$I70=""),"",IF(COUNTIFS($G$3:$G70,$G70,$F$3:$F70,$F70)>3,"",_xlfn.TEXTJOIN(" ",,COUNTIFS($G$3:$G70,$G70,$F$3:$F70,$F70)&IF(AND(MOD(ABS(COUNTIFS($G$3:$G70,$G70,$F$3:$F70,$F70)),100)>10,MOD(ABS(COUNTIFS($G$3:$G70,$G70,$F$3:$F70,$F70)),100)<14),"th",CHOOSE(MOD(ABS(COUNTIFS($G$3:$G70,$G70,$F$3:$F70,$F70)),10)+1,"th","st","nd","rd","th","th","th","th","th","th")),$F70,IF($G70="Male","Men","Lady"))))
A71: 70 | B71: Annelise | C71: Krynauw | D71: Temporary Licence | F71: Senior | G71: Female | H71: 39 | I71: 0.037458333 | J71: =IF(OR('10km'!$F71="",'10km'!$G71="",'10km'!$I71=""),"",IF(COUNTIFS($G$3:$G71,$G71,$F$3:$F71,$F71)>3,"",_xlfn.TEXTJOIN(" ",,COUNTIFS($G$3:$G71,$G71,$F$3:$F71,$F71)&IF(AND(MOD(ABS(COUNTIFS($G$3:$G71,$G71,$F$3:$F71,$F71)),100)>10,MOD(ABS(COUNTIFS($G$3:$G71,$G71,$F$3:$F71,$F71)),100)<14),"th",CHOOSE(MOD(ABS(COUNTIFS($G$3:$G71,$G71,$F$3:$F71,$F71)),10)+1,"th","st","nd","rd","th","th","th","th","th","th")),$F71,IF($G71="Male","Men","Lady"))))
A72: 71 | B72: No Card | I72: 0.037796875 | J72: =IF(OR('10km'!$F72="",'10km'!$G72="",'10km'!$I72=""),"",IF(COUNTIFS($G$3:$G72,$G72,$F$3:$F72,$F72)>3,"",_xlfn.TEXTJOIN(" ",,COUNTIFS($G$3:$G72,$G72,$F$3:$F72,$F72)&IF(AND(MOD(ABS(COUNTIFS($G$3:$G72,$G72,$F$3:$F72,$F72)),100)>10,MOD(ABS(COUNTIFS($G$3:$G72,$G72,$F$3:$F72,$F72)),100)<14),"th",CHOOSE(MOD(ABS(COUNTIFS($G$3:$G72,$G72,$F$3:$F72,$F72)),10)+1,"th","st","nd","rd","th","th","th","th","th","th")),$F72,IF($G72="Male","Men","Lady"))))
A73: 72 | B73: Jac | C73: Crafford | D73: Temporary Licence | E73: 1100 | F73: Senior | G73: Male | H73: 29 | I73: 0.038130324 | J73: =IF(OR('10km'!$F73="",'10km'!$G73="",'10km'!$I73=""),"",IF(COUNTIFS($G$3:$G73,$G73,$F$3:$F73,$F73)>3,"",_xlfn.TEXTJOIN(" ",,COUNTIFS($G$3:$G73,$G73,$F$3:$F73,$F73)&IF(AND(MOD(ABS(COUNTIFS($G$3:$G73,$G73,$F$3:$F73,$F73)),100)>10,MOD(ABS(COUNTIFS($G$3:$G73,$G73,$F$3:$F73,$F73)),100)<14),"th",CHOOSE(MOD(ABS(COUNTIFS($G$3:$G73,$G73,$F$3:$F73,$F73)),10)+1,"th","st","nd","rd","th","th","th","th","th","th")),$F73,IF($G73="Male","Men","Lady"))))
A74: 73 | B74: Paul | C74: Farmer | D74: Temporary Licence | E74: 1099 | F74: Senior | G74: Male | H74: 34 | I74: 0.038337037 | J74: =IF(OR('10km'!$F74="",'10km'!$G74="",'10km'!$I74=""),"",IF(COUNTIFS($G$3:$G74,$G74,$F$3:$F74,$F74)>3,"",_xlfn.TEXTJOIN(" ",,COUNTIFS($G$3:$G74,$G74,$F$3:$F74,$F74)&IF(AND(MOD(ABS(COUNTIFS($G$3:$G74,$G74,$F$3:$F74,$F74)),100)>10,MOD(ABS(COUNTIFS($G$3:$G74,$G74,$F$3:$F74,$F74)),100)<14),"th",CHOOSE(MOD(ABS(COUNTIFS($G$3:$G74,$G74,$F$3:$F74,$F74)),10)+1,"th","st","nd","rd","th","th","th","th","th","th")),$F74,IF($G74="Male","Men","Lady"))))
A75: 74 | B75: Vondra | C75: Singleton | D75: Worcester AC | E75: 476 | F75: 50+ | G75: Female | H75: 51 | I75: 0.038572917 | J75: =IF(OR('10km'!$F75="",'10km'!$G75="",'10km'!$I75=""),"",IF(COUNTIFS($G$3:$G75,$G75,$F$3:$F75,$F75)>3,"",_xlfn.TEXTJOIN(" ",,COUNTIFS($G$3:$G75,$G75,$F$3:$F75,$F75)&IF(AND(MOD(ABS(COUNTIFS($G$3:$G75,$G75,$F$3:$F75,$F75)),100)>10,MOD(ABS(COUNTIFS($G$3:$G75,$G75,$F$3:$F75,$F75)),100)<14),"th",CHOOSE(MOD(ABS(COUNTIFS($G$3:$G75,$G75,$F$3:$F75,$F75)),10)+1,"th","st","nd","rd","th","th","th","th","th","th")),$F75,IF($G75="Male","Men","Lady"))))
A76: 75 | B76: Ina | C76: Botma | D76: Temo | F76: Senior | G76: Female | H76: 32 | I76: 0.038593981 | J76: =IF(OR('10km'!$F76="",'10km'!$G76="",'10km'!$I76=""),"",IF(COUNTIFS($G$3:$G76,$G76,$F$3:$F76,$F76)>3,"",_xlfn.TEXTJOIN(" ",,COUNTIFS($G$3:$G76,$G76,$F$3:$F76,$F76)&IF(AND(MOD(ABS(COUNTIFS($G$3:$G76,$G76,$F$3:$F76,$F76)),100)>10,MOD(ABS(COUNTIFS($G$3:$G76,$G76,$F$3:$F76,$F76)),100)<14),"th",CHOOSE(MOD(ABS(COUNTIFS($G$3:$G76,$G76,$F$3:$F76,$F76)),10)+1,"th","st","nd","rd","th","th","th","th","th","th")),$F76,IF($G76="Male","Men","Lady"))))
A77: 76 | B77: V | C77: Gloeck | D77: Temporary Licence | E77: 1052 | F77: Senior | G77: Female | H77: 36 | I77: 0.038815162 | J77: =IF(OR('10km'!$F77="",'10km'!$G77="",'10km'!$I77=""),"",IF(COUNTIFS($G$3:$G77,$G77,$F$3:$F77,$F77)>3,"",_xlfn.TEXTJOIN(" ",,COUNTIFS($G$3:$G77,$G77,$F$3:$F77,$F77)&IF(AND(MOD(ABS(COUNTIFS($G$3:$G77,$G77,$F$3:$F77,$F77)),100)>10,MOD(ABS(COUNTIFS($G$3:$G77,$G77,$F$3:$F77,$F77)),100)<14),"th",CHOOSE(MOD(ABS(COUNTIFS($G$3:$G77,$G77,$F$3:$F77,$F77)),10)+1,"th","st","nd","rd","th","th","th","th","th","th")),$F77,IF($G77="Male","Men","Lady"))))
A78: 77 | B78: Lauren | C78: Meyer | D78: Paarl AC | E78: 935 | F78: Senior | G78: Female | H78: 27 | I78: 0.038923727 | J78: =IF(OR('10km'!$F78="",'10km'!$G78="",'10km'!$I78=""),"",IF(COUNTIFS($G$3:$G78,$G78,$F$3:$F78,$F78)>3,"",_xlfn.TEXTJOIN(" ",,COUNTIFS($G$3:$G78,$G78,$F$3:$F78,$F78)&IF(AND(MOD(ABS(COUNTIFS($G$3:$G78,$G78,$F$3:$F78,$F78)),100)>10,MOD(ABS(COUNTIFS($G$3:$G78,$G78,$F$3:$F78,$F78)),100)<14),"th",CHOOSE(MOD(ABS(COUNTIFS($G$3:$G78,$G78,$F$3:$F78,$F78)),10)+1,"th","st","nd","rd","th","th","th","th","th","th")),$F78,IF($G78="Male","Men","Lady"))))
A79: 78 | B79: Corrie | C79: Rooi | D79: Worcester AC | E79: 492 | F79: 40+ | G79: Male | H79: 49 | I79: 0.038961921 | J79: =IF(OR('10km'!$F79="",'10km'!$G79="",'10km'!$I79=""),"",IF(COUNTIFS($G$3:$G79,$G79,$F$3:$F79,$F79)>3,"",_xlfn.TEXTJOIN(" ",,COUNTIFS($G$3:$G79,$G79,$F$3:$F79,$F79)&IF(AND(MOD(ABS(COUNTIFS($G$3:$G79,$G79,$F$3:$F79,$F79)),100)>10,MOD(ABS(COUNTIFS($G$3:$G79,$G79,$F$3:$F79,$F79)),100)<14),"th",CHOOSE(MOD(ABS(COUNTIFS($G$3:$G79,$G79,$F$3:$F79,$F79)),10)+1,"th","st","nd","rd","th","th","th","th","th","th")),$F79,IF($G79="Male","Men","Lady"))))
A80: 79 | B80: Christopher | C80: Hop | D80: Correctional Services (Boland) | E80: 1202 | F80: Senior | G80: Male | H80: 39 | I80: 0.03923912 | J80: =IF(OR('10km'!$F80="",'10km'!$G80="",'10km'!$I80=""),"",IF(COUNTIFS($G$3:$G80,$G80,$F$3:$F80,$F80)>3,"",_xlfn.TEXTJOIN(" ",,COUNTIFS($G$3:$G80,$G80,$F$3:$F80,$F80)&IF(AND(MOD(ABS(COUNTIFS($G$3:$G80,$G80,$F$3:$F80,$F80)),100)>10,MOD(ABS(COUNTIFS($G$3:$G80,$G80,$F$3:$F80,$F80)),100)<14),"th",CHOOSE(MOD(ABS(COUNTIFS($G$3:$G80,$G80,$F$3:$F80,$F80)),10)+1,"th","st","nd","rd","th","th","th","th","th","th")),$F80,IF($G80="Male","Men","Lady"))))
A81: 80 | B81: Ricardo | C81: Lotz | D81: Temporary Licence | E81: 1069 | F81: Senior | G81: Male | H81: 31 | I81: 0.039472801 | J81: =IF(OR('10km'!$F81="",'10km'!$G81="",'10km'!$I81=""),"",IF(COUNTIFS($G$3:$G81,$G81,$F$3:$F81,$F81)>3,"",_xlfn.TEXTJOIN(" ",,COUNTIFS($G$3:$G81,$G81,$F$3:$F81,$F81)&IF(AND(MOD(ABS(COUNTIFS($G$3:$G81,$G81,$F$3:$F81,$F81)),100)>10,MOD(ABS(COUNTIFS($G$3:$G81,$G81,$F$3:$F81,$F81)),100)<14),"th",CHOOSE(MOD(ABS(COUNTIFS($G$3:$G81,$G81,$F$3:$F81,$F81)),10)+1,"th","st","nd","rd","th","th","th","th","th","th")),$F81,IF($G81="Male","Men","Lady"))))
A82: 81 | B82: Pieter | C82: Johnson | D82: Worcester AC | E82: 518 | F82: 50+ | G82: Male | H82: 57 | I82: 0.040104167 | J82: =IF(OR('10km'!$F82="",'10km'!$G82="",'10km'!$I82=""),"",IF(COUNTIFS($G$3:$G82,$G82,$F$3:$F82,$F82)>3,"",_xlfn.TEXTJOIN(" ",,COUNTIFS($G$3:$G82,$G82,$F$3:$F82,$F82)&IF(AND(MOD(ABS(COUNTIFS($G$3:$G82,$G82,$F$3:$F82,$F82)),100)>10,MOD(ABS(COUNTIFS($G$3:$G82,$G82,$F$3:$F82,$F82)),100)<14),"th",CHOOSE(MOD(ABS(COUNTIFS($G$3:$G82,$G82,$F$3:$F82,$F82)),10)+1,"th","st","nd","rd","th","th","th","th","th","th")),$F82,IF($G82="Male","Men","Lady"))))
A83: 82 | B83: Jaypee | C83: Snyman | D83: Worcester AC | E83: 500 | F83: 50+ | G83: Male | H83: 51 | I83: 0.040209144 | J83: =IF(OR('10km'!$F83="",'10km'!$G83="",'10km'!$I83=""),"",IF(COUNTIFS($G$3:$G83,$G83,$F$3:$F83,$F83)>3,"",_xlfn.TEXTJOIN(" ",,COUNTIFS($G$3:$G83,$G83,$F$3:$F83,$F83)&IF(AND(MOD(ABS(COUNTIFS($G$3:$G83,$G83,$F$3:$F83,$F83)),100)>10,MOD(ABS(COUNTIFS($G$3:$G83,$G83,$F$3:$F83,$F83)),100)<14),"th",CHOOSE(MOD(ABS(COUNTIFS($G$3:$G83,$G83,$F$3:$F83,$F83)),10)+1,"th","st","nd","rd","th","th","th","th","th","th")),$F83,IF($G83="Male","Men","Lady"))))
A84: 83 | B84: No Card | I84: 0.040227546 | J84: =IF(OR('10km'!$F84="",'10km'!$G84="",'10km'!$I84=""),"",IF(COUNTIFS($G$3:$G84,$G84,$F$3:$F84,$F84)>3,"",_xlfn.TEXTJOIN(" ",,COUNTIFS($G$3:$G84,$G84,$F$3:$F84,$F84)&IF(AND(MOD(ABS(COUNTIFS($G$3:$G84,$G84,$F$3:$F84,$F84)),100)>10,MOD(ABS(COUNTIFS($G$3:$G84,$G84,$F$3:$F84,$F84)),100)<14),"th",CHOOSE(MOD(ABS(COUNTIFS($G$3:$G84,$G84,$F$3:$F84,$F84)),10)+1,"th","st","nd","rd","th","th","th","th","th","th")),$F84,IF($G84="Male","Men","Lady"))))
A85: 84 | B85: Abe | C85: Fortuin | D85: Worcester AC | E85: 1077 | F85: 70+ | G85: Male | H85: 70 | I85: 0.040234028 | J85: =IF(OR('10km'!$F85="",'10km'!$G85="",'10km'!$I85=""),"",IF(COUNTIFS($G$3:$G85,$G85,$F$3:$F85,$F85)>3,"",_xlfn.TEXTJOIN(" ",,COUNTIFS($G$3:$G85,$G85,$F$3:$F85,$F85)&IF(AND(MOD(ABS(COUNTIFS($G$3:$G85,$G85,$F$3:$F85,$F85)),100)>10,MOD(ABS(COUNTIFS($G$3:$G85,$G85,$F$3:$F85,$F85)),100)<14),"th",CHOOSE(MOD(ABS(COUNTIFS($G$3:$G85,$G85,$F$3:$F85,$F85)),10)+1,"th","st","nd","rd","th","th","th","th","th","th")),$F85,IF($G85="Male","Men","Lady")))) -> 1st 70+ Men
A86: 85 | B86: Patrick | C86: Aronse | D86: Correctional Services (Boland) | E86: 1192 | F86: 50+ | G86: Male | H86: 50 | I86: 0.040239699 | J86: =IF(OR('10km'!$F86="",'10km'!$G86="",'10km'!$I86=""),"",IF(COUNTIFS($G$3:$G86,$G86,$F$3:$F86,$F86)>3,"",_xlfn.TEXTJOIN(" ",,COUNTIFS($G$3:$G86,$G86,$F$3:$F86,$F86)&IF(AND(MOD(ABS(COUNTIFS($G$3:$G86,$G86,$F$3:$F86,$F86)),100)>10,MOD(ABS(COUNTIFS($G$3:$G86,$G86,$F$3:$F86,$F86)),100)<14),"th",CHOOSE(MOD(ABS(COUNTIFS($G$3:$G86,$G86,$F$3:$F86,$F86)),10)+1,"th","st","nd","rd","th","th","th","th","th","th")),$F86,IF($G86="Male","Men","Lady"))))
A87: 86 | B87: Tersia | C87: Smit | D87: Temporary Licence | E87: 1053 | F87: 40+ | G87: Female | H87: 41 | I87: 0.04024537 | J87: =IF(OR('10km'!$F87="",'10km'!$G87="",'10km'!$I87=""),"",IF(COUNTIFS($G$3:$G87,$G87,$F$3:$F87,$F87)>3,"",_xlfn.TEXTJOIN(" ",,COUNTIFS($G$3:$G87,$G87,$F$3:$F87,$F87)&IF(AND(MOD(ABS(COUNTIFS($G$3:$G87,$G87,$F$3:$F87,$F87)),100)>10,MOD(ABS(COUNTIFS($G$3:$G87,$G87,$F$3:$F87,$F87)),100)<14),"th",CHOOSE(MOD(ABS(COUNTIFS($G$3:$G87,$G87,$F$3:$F87,$F87)),10)+1,"th","st","nd","rd","th","th","th","th","th","th")),$F87,IF($G87="Male","Men","Lady"))))
A88: 87 | B88: J | C88: De Villiers | D88: Temporary Licence | E88: 1107 | F88: Senior | G88: Male | H88: 32 | I88: 0.040252431 | J88: =IF(OR('10km'!$F88="",'10km'!$G88="",'10km'!$I88=""),"",IF(COUNTIFS($G$3:$G88,$G88,$F$3:$F88,$F88)>3,"",_xlfn.TEXTJOIN(" ",,COUNTIFS($G$3:$G88,$G88,$F$3:$F88,$F88)&IF(AND(MOD(ABS(COUNTIFS($G$3:$G88,$G88,$F$3:$F88,$F88)),100)>10,MOD(ABS(COUNTIFS($G$3:$G88,$G88,$F$3:$F88,$F88)),100)<14),"th",CHOOSE(MOD(ABS(COUNTIFS($G$3:$G88,$G88,$F$3:$F88,$F88)),10)+1,"th","st","nd","rd","th","th","th","th","th","th")),$F88,IF($G88="Male","Men","Lady"))))
A89: 88 | B89: Henk | C89: Bos | D89: Montagu AC | E89: 998 | F89: 70+ | G89: Male | H89: 72 | I89: 0.041131597 | J89: =IF(OR('10km'!$F89="",'10km'!$G89="",'10km'!$I89=""),"",IF(COUNTIFS($G$3:$G89,$G89,$F$3:$F89,$F89)>3,"",_xlfn.TEXTJOIN(" ",,COUNTIFS($G$3:$G89,$G89,$F$3:$F89,$F89)&IF(AND(MOD(ABS(COUNTIFS($G$3:$G89,$G89,$F$3:$F89,$F89)),100)>10,MOD(ABS(COUNTIFS($G$3:$G89,$G89,$F$3:$F89,$F89)),100)<14),"th",CHOOSE(MOD(ABS(COUNTIFS($G$3:$G89,$G89,$F$3:$F89,$F89)),10)+1,"th","st","nd","rd","th","th","th","th","th","th")),$F89,IF($G89="Male","Men","Lady")))) -> 2nd 70+ Men
A90: 89 | B90: Lindsay | C90: Du Toit | D90: Temporary Licence | E90: 1111 | F90: 40+ | G90: Male | H90: 40 | I90: 0.041227662 | J90: =IF(OR('10km'!$F90="",'10km'!$G90="",'10km'!$I90=""),"",IF(COUNTIFS($G$3:$G90,$G90,$F$3:$F90,$F90)>3,"",_xlfn.TEXTJOIN(" ",,COUNTIFS($G$3:$G90,$G90,$F$3:$F90,$F90)&IF(AND(MOD(ABS(COUNTIFS($G$3:$G90,$G90,$F$3:$F90,$F90)),100)>10,MOD(ABS(COUNTIFS($G$3:$G90,$G90,$F$3:$F90,$F90)),100)<14),"th",CHOOSE(MOD(ABS(COUNTIFS($G$3:$G90,$G90,$F$3:$F90,$F90)),10)+1,"th","st","nd","rd","th","th","th","th","th","th")),$F90,IF($G90="Male","Men","Lady"))))
A91: 90 | B91: JP | C91: Du Toit | D91: Temporary Licence | E91: 1110 | F91: Senior | G91: Male | H91: 37 | I91: 0.041240278 | J91: =IF(OR('10km'!$F91="",'10km'!$G91="",'10km'!$I91=""),"",IF(COUNTIFS($G$3:$G91,$G91,$F$3:$F91,$F91)>3,"",_xlfn.TEXTJOIN(" ",,COUNTIFS($G$3:$G91,$G91,$F$3:$F91,$F91)&IF(AND(MOD(ABS(COUNTIFS($G$3:$G91,$G91,$F$3:$F91,$F91)),100)>10,MOD(ABS(COUNTIFS($G$3:$G91,$G91,$F$3:$F91,$F91)),100)<14),"th",CHOOSE(MOD(ABS(COUNTIFS($G$3:$G91,$G91,$F$3:$F91,$F91)),10)+1,"th","st","nd","rd","th","th","th","th","th","th")),$F91,IF($G91="Male","Men","Lady"))))
A92: 91 | B92: Spreeth | C92: Neethling | D92: Temporary Licence | E92: 1080 | F92: Senior | G92: Male | H92: 30 | I92: 0.041377778 | J92: =IF(OR('10km'!$F92="",'10km'!$G92="",'10km'!$I92=""),"",IF(COUNTIFS($G$3:$G92,$G92,$F$3:$F92,$F92)>3,"",_xlfn.TEXTJOIN(" ",,COUNTIFS($G$3:$G92,$G92,$F$3:$F92,$F92)&IF(AND(MOD(ABS(COUNTIFS($G$3:$G92,$G92,$F$3:$F92,$F92)),100)>10,MOD(ABS(COUNTIFS($G$3:$G92,$G92,$F$3:$F92,$F92)),100)<14),"th",CHOOSE(MOD(ABS(COUNTIFS($G$3:$G92,$G92,$F$3:$F92,$F92)),10)+1,"th","st","nd","rd","th","th","th","th","th","th")),$F92,IF($G92="Male","Men","Lady"))))
A93: 92 | B93: Elizabeth | C93: Beneke | D93: Temporary Licence | E93: 1106 | F93: Senior | G93: Female | H93: 32 | I93: 0.041634491 | J93: =IF(OR('10km'!$F93="",'10km'!$G93="",'10km'!$I93=""),"",IF(COUNTIFS($G$3:$G93,$G93,$F$3:$F93,$F93)>3,"",_xlfn.TEXTJOIN(" ",,COUNTIFS($G$3:$G93,$G93,$F$3:$F93,$F93)&IF(AND(MOD(ABS(COUNTIFS($G$3:$G93,$G93,$F$3:$F93,$F93)),100)>10,MOD(ABS(COUNTIFS($G$3:$G93,$G93,$F$3:$F93,$F93)),100)<14),"th",CHOOSE(MOD(ABS(COUNTIFS($G$3:$G93,$G93,$F$3:$F93,$F93)),10)+1,"th","st","nd","rd","th","th","th","th","th","th")),$F93,IF($G93="Male","Men","Lady"))))
A94: 93 | B94: Adina | C94: Pienaar | D94: Worcester AC | E94: 517 | F94: Senior | G94: Female | H94: 35 | I94: 0.041788194 | J94: =IF(OR('10km'!$F94="",'10km'!$G94="",'10km'!$I94=""),"",IF(COUNTIFS($G$3:$G94,$G94,$F$3:$F94,$F94)>3,"",_xlfn.TEXTJOIN(" ",,COUNTIFS($G$3:$G94,$G94,$F$3:$F94,$F94)&IF(AND(MOD(ABS(COUNTIFS($G$3:$G94,$G94,$F$3:$F94,$F94)),100)>10,MOD(ABS(COUNTIFS($G$3:$G94,$G94,$F$3:$F94,$F94)),100)<14),"th",CHOOSE(MOD(ABS(COUNTIFS($G$3:$G94,$G94,$F$3:$F94,$F94)),10)+1,"th","st","nd","rd","th","th","th","th","th","th")),$F94,IF($G94="Male","Men","Lady"))))
A95: 94 | B95: Mabuyal | D95: Correctional Services (Boland) | E95: 1213 | F95: Senior | G95: Male | H95: 39 | I95: 0.041800694 | J95: =IF(OR('10km'!$F95="",'10km'!$G95="",'10km'!$I95=""),"",IF(COUNTIFS($G$3:$G95,$G95,$F$3:$F95,$F95)>3,"",_xlfn.TEXTJOIN(" ",,COUNTIFS($G$3:$G95,$G95,$F$3:$F95,$F95)&IF(AND(MOD(ABS(COUNTIFS($G$3:$G95,$G95,$F$3:$F95,$F95)),100)>10,MOD(ABS(COUNTIFS($G$3:$G95,$G95,$F$3:$F95,$F95)),100)<14),"th",CHOOSE(MOD(ABS(COUNTIFS($G$3:$G95,$G95,$F$3:$F95,$F95)),10)+1,"th","st","nd","rd","th","th","th","th","th","th")),$F95,IF($G95="Male","Men","Lady"))))
A96: 95 | B96: Paul | C96: De Wet | D96: Worcester AC | E96: 550 | F96: 70+ | G96: Male | H96: 72 | I96: 0.041815509 | J96: =IF(OR('10km'!$F96="",'10km'!$G96="",'10km'!$I96=""),"",IF(COUNTIFS($G$3:$G96,$G96,$F$3:$F96,$F96)>3,"",_xlfn.TEXTJOIN(" ",,COUNTIFS($G$3:$G96,$G96,$F$3:$F96,$F96)&IF(AND(MOD(ABS(COUNTIFS($G$3:$G96,$G96,$F$3:$F96,$F96)),100)>10,MOD(ABS(COUNTIFS($G$3:$G96,$G96,$F$3:$F96,$F96)),100)<14),"th",CHOOSE(MOD(ABS(COUNTIFS($G$3:$G96,$G96,$F$3:$F96,$F96)),10)+1,"th","st","nd","rd","th","th","th","th","th","th")),$F96,IF($G96="Male","Men","Lady")))) -> 3rd 70+ Men
A97: 96 | B97: Martie | C97: Lourense | D97: Branckenfell | E97: 9603 | F97: 50+ | G97: Female | H97: 59 | I97: 0.041841435 | J97: =IF(OR('10km'!$F97="",'10km'!$G97="",'10km'!$I97=""),"",IF(COUNTIFS($G$3:$G97,$G97,$F$3:$F97,$F97)>3,"",_xlfn.TEXTJOIN(" ",,COUNTIFS($G$3:$G97,$G97,$F$3:$F97,$F97)&IF(AND(MOD(ABS(COUNTIFS($G$3:$G97,$G97,$F$3:$F97,$F97)),100)>10,MOD(ABS(COUNTIFS($G$3:$G97,$G97,$F$3:$F97,$F97)),100)<14),"th",CHOOSE(MOD(ABS(COUNTIFS($G$3:$G97,$G97,$F$3:$F97,$F97)),10)+1,"th","st","nd","rd","th","th","th","th","th","th")),$F97,IF($G97="Male","Men","Lady"))))
A98: 97 | B98: Monique | C98: Venter | D98: Worcester AC | E98: 526 | F98: Senior | G98: Female | H98: 31 | I98: 0.042147917 | J98: =IF(OR('10km'!$F98="",'10km'!$G98="",'10km'!$I98=""),"",IF(COUNTIFS($G$3:$G98,$G98,$F$3:$F98,$F98)>3,"",_xlfn.TEXTJOIN(" ",,COUNTIFS($G$3:$G98,$G98,$F$3:$F98,$F98)&IF(AND(MOD(ABS(COUNTIFS($G$3:$G98,$G98,$F$3:$F98,$F98)),100)>10,MOD(ABS(COUNTIFS($G$3:$G98,$G98,$F$3:$F98,$F98)),100)<14),"th",CHOOSE(MOD(ABS(COUNTIFS($G$3:$G98,$G98,$F$3:$F98,$F98)),10)+1,"th","st","nd","rd","th","th","th","th","th","th")),$F98,IF($G98="Male","Men","Lady"))))
A99: 98 | B99: Abel | C99: van der Merwe | D99: Temporary Licence | E99: 1059 | F99: 60+ | G99: Male | H99: 62 | I99: 0.042789352 | J99: =IF(OR('10km'!$F99="",'10km'!$G99="",'10km'!$I99=""),"",IF(COUNTIFS($G$3:$G99,$G99,$F$3:$F99,$F99)>3,"",_xlfn.TEXTJOIN(" ",,COUNTIFS($G$3:$G99,$G99,$F$3:$F99,$F99)&IF(AND(MOD(ABS(COUNTIFS($G$3:$G99,$G99,$F$3:$F99,$F99)),100)>10,MOD(ABS(COUNTIFS($G$3:$G99,$G99,$F$3:$F99,$F99)),100)<14),"th",CHOOSE(MOD(ABS(COUNTIFS($G$3:$G99,$G99,$F$3:$F99,$F99)),10)+1,"th","st","nd","rd","th","th","th","th","th","th")),$F99,IF($G99="Male","Men","Lady"))))
A100: 99 | B100: Bettie | C100: Du Plessis | D100: Franschhoek AC | F100: Senior | G100: Female | I100: 0.043003472 | J100: =IF(OR('10km'!$F100="",'10km'!$G100="",'10km'!$I100=""),"",IF(COUNTIFS($G$3:$G100,$G100,$F$3:$F100,$F100)>3,"",_xlfn.TEXTJOIN(" ",,COUNTIFS($G$3:$G100,$G100,$F$3:$F100,$F100)&IF(AND(MOD(ABS(COUNTIFS($G$3:$G100,$G100,$F$3:$F100,$F100)),100)>10,MOD(ABS(COUNTIFS($G$3:$G100,$G100,$F$3:$F100,$F100)),100)<14),"th",CHOOSE(MOD(ABS(COUNTIFS($G$3:$G100,$G100,$F$3:$F100,$F100)),10)+1,"th","st","nd","rd","th","th","th","th","th","th")),$F100,IF($G100="Male","Men","Lady"))))
A101: 100 | B101: Katrina | C101: Smith | D101: Correctional Services (Boland) | E101: 1120 | F101: 50+ | G101: Female | H101: 51 | I101: 0.043084144 | J101: =IF(OR('10km'!$F101="",'10km'!$G101="",'10km'!$I101=""),"",IF(COUNTIFS($G$3:$G101,$G101,$F$3:$F101,$F101)>3,"",_xlfn.TEXTJOIN(" ",,COUNTIFS($G$3:$G101,$G101,$F$3:$F101,$F101)&IF(AND(MOD(ABS(COUNTIFS($G$3:$G101,$G101,$F$3:$F101,$F101)),100)>10,MOD(ABS(COUNTIFS($G$3:$G101,$G101,$F$3:$F101,$F101)),100)<14),"th",CHOOSE(MOD(ABS(COUNTIFS($G$3:$G101,$G101,$F$3:$F101,$F101)),10)+1,"th","st","nd","rd","th","th","th","th","th","th")),$F101,IF($G101="Male","Men","Lady"))))
A102: 101 | B102: Martie | C102: Van Zyl | D102: Temporary Licence | F102: Senior | G102: Female | H102: 37 | I102: 0.043093981 | J102: =IF(OR('10km'!$F102="",'10km'!$G102="",'10km'!$I102=""),"",IF(COUNTIFS($G$3:$G102,$G102,$F$3:$F102,$F102)>3,"",_xlfn.TEXTJOIN(" ",,COUNTIFS($G$3:$G102,$G102,$F$3:$F102,$F102)&IF(AND(MOD(ABS(COUNTIFS($G$3:$G102,$G102,$F$3:$F102,$F102)),100)>10,MOD(ABS(COUNTIFS($G$3:$G102,$G102,$F$3:$F102,$F102)),100)<14),"th",CHOOSE(MOD(ABS(COUNTIFS($G$3:$G102,$G102,$F$3:$F102,$F102)),10)+1,"th","st","nd","rd","th","th","th","th","th","th")),$F102,IF($G102="Male","Men","Lady"))))
A103: 102 | B103: Helen | C103: Du Plessis | D103: Brackenfell Athletic Club | E103: 9867 | F103: 60+ | G103: Female | H103: 66 | I103: 0.043141319 | J103: =IF(OR('10km'!$F103="",'10km'!$G103="",'10km'!$I103=""),"",IF(COUNTIFS($G$3:$G103,$G103,$F$3:$F103,$F103)>3,"",_xlfn.TEXTJOIN(" ",,COUNTIFS($G$3:$G103,$G103,$F$3:$F103,$F103)&IF(AND(MOD(ABS(COUNTIFS($G$3:$G103,$G103,$F$3:$F103,$F103)),100)>10,MOD(ABS(COUNTIFS($G$3:$G103,$G103,$F$3:$F103,$F103)),100)<14),"th",CHOOSE(MOD(ABS(COUNTIFS($G$3:$G103,$G103,$F$3:$F103,$F103)),10)+1,"th","st","nd","rd","th","th","th","th","th","th")),$F103,IF($G103="Male","Men","Lady")))) -> 2nd 60+ Lady
A104: 103 | B104: Colin | C104: Willson | D104: Worcester AC | E104: 530 | F104: 70+ | G104: Male | H104: 70 | I104: 0.043190625 | J104: =IF(OR('10km'!$F104="",'10km'!$G104="",'10km'!$I104=""),"",IF(COUNTIFS($G$3:$G104,$G104,$F$3:$F104,$F104)>3,"",_xlfn.TEXTJOIN(" ",,COUNTIFS($G$3:$G104,$G104,$F$3:$F104,$F104)&IF(AND(MOD(ABS(COUNTIFS($G$3:$G104,$G104,$F$3:$F104,$F104)),100)>10,MOD(ABS(COUNTIFS($G$3:$G104,$G104,$F$3:$F104,$F104)),100)<14),"th",CHOOSE(MOD(ABS(COUNTIFS($G$3:$G104,$G104,$F$3:$F104,$F104)),10)+1,"th","st","nd","rd","th","th","th","th","th","th")),$F104,IF($G104="Male","Men","Lady"))))
A105: 104 | B105: Desirie | C105: de la Rosa | D105: Temporary Licence | E105: 1112 | F105: 40+ | G105: Female | H105: 45 | I105: 0.043226852 | J105: =IF(OR('10km'!$F105="",'10km'!$G105="",'10km'!$I105=""),"",IF(COUNTIFS($G$3:$G105,$G105,$F$3:$F105,$F105)>3,"",_xlfn.TEXTJOIN(" ",,COUNTIFS($G$3:$G105,$G105,$F$3:$F105,$F105)&IF(AND(MOD(ABS(COUNTIFS($G$3:$G105,$G105,$F$3:$F105,$F105)),100)>10,MOD(ABS(COUNTIFS($G$3:$G105,$G105,$F$3:$F105,$F105)),100)<14),"th",CHOOSE(MOD(ABS(COUNTIFS($G$3:$G105,$G105,$F$3:$F105,$F105)),10)+1,"th","st","nd","rd","th","th","th","th","th","th")),$F105,IF($G105="Male","Men","Lady"))))
A106: 105 | B106: Barbara | C106: Hofmeester | D106: Correctional Services (Boland) | E106: 1206 | F106: Senior | G106: Female | I106: 0.043236458 | J106: =IF(OR('10km'!$F106="",'10km'!$G106="",'10km'!$I106=""),"",IF(COUNTIFS($G$3:$G106,$G106,$F$3:$F106,$F106)>3,"",_xlfn.TEXTJOIN(" ",,COUNTIFS($G$3:$G106,$G106,$F$3:$F106,$F106)&IF(AND(MOD(ABS(COUNTIFS($G$3:$G106,$G106,$F$3:$F106,$F106)),100)>10,MOD(ABS(COUNTIFS($G$3:$G106,$G106,$F$3:$F106,$F106)),100)<14),"th",CHOOSE(MOD(ABS(COUNTIFS($G$3:$G106,$G106,$F$3:$F106,$F106)),10)+1,"th","st","nd","rd","th","th","th","th","th","th")),$F106,IF($G106="Male","Men","Lady"))))
A107: 107 | B107: No Card | I107: 0.043778125 | J107: =IF(OR('10km'!$F107="",'10km'!$G107="",'10km'!$I107=""),"",IF(COUNTIFS($G$3:$G107,$G107,$F$3:$F107,$F107)>3,"",_xlfn.TEXTJOIN(" ",,COUNTIFS($G$3:$G107,$G107,$F$3:$F107,$F107)&IF(AND(MOD(ABS(COUNTIFS($G$3:$G107,$G107,$F$3:$F107,$F107)),100)>10,MOD(ABS(COUNTIFS($G$3:$G107,$G107,$F$3:$F107,$F107)),100)<14),"th",CHOOSE(MOD(ABS(COUNTIFS($G$3:$G107,$G107,$F$3:$F107,$F107)),10)+1,"th","st","nd","rd","th","th","th","th","th","th")),$F107,IF($G107="Male","Men","Lady"))))
A108: 108 | B108: Celeste | C108: Zeeman | D108: Worcester AC | E108: 1058 | F108: Senior | G108: Female | I108: 0.044478472 | J108: =IF(OR('10km'!$F108="",'10km'!$G108="",'10km'!$I108=""),"",IF(COUNTIFS($G$3:$G108,$G108,$F$3:$F108,$F108)>3,"",_xlfn.TEXTJOIN(" ",,COUNTIFS($G$3:$G108,$G108,$F$3:$F108,$F108)&IF(AND(MOD(ABS(COUNTIFS($G$3:$G108,$G108,$F$3:$F108,$F108)),100)>10,MOD(ABS(COUNTIFS($G$3:$G108,$G108,$F$3:$F108,$F108)),100)<14),"th",CHOOSE(MOD(ABS(COUNTIFS($G$3:$G108,$G108,$F$3:$F108,$F108)),10)+1,"th","st","nd","rd","th","th","th","th","th","th")),$F108,IF($G108="Male","Men","Lady"))))
A109: 109 | B109: Ronel | C109: van Graan | D109: Paarl AC | E109: 223 | F109: 50+ | G109: Female | H109: 55 | I109: 0.044871065 | J109: =IF(OR('10km'!$F109="",'10km'!$G109="",'10km'!$I109=""),"",IF(COUNTIFS($G$3:$G109,$G109,$F$3:$F109,$F109)>3,"",_xlfn.TEXTJOIN(" ",,COUNTIFS($G$3:$G109,$G109,$F$3:$F109,$F109)&IF(AND(MOD(ABS(COUNTIFS($G$3:$G109,$G109,$F$3:$F109,$F109)),100)>10,MOD(ABS(COUNTIFS($G$3:$G109,$G109,$F$3:$F109,$F109)),100)<14),"th",CHOOSE(MOD(ABS(COUNTIFS($G$3:$G109,$G109,$F$3:$F109,$F109)),10)+1,"th","st","nd","rd","th","th","th","th","th","th")),$F109,IF($G109="Male","Men","Lady"))))
A110: 110 | B110: Elsabe | C110: Dippenaar | D110: Temporary Licence | F110: 40+ | G110: Female | H110: 48 | I110: 0.044933218 | J110: =IF(OR('10km'!$F110="",'10km'!$G110="",'10km'!$I110=""),"",IF(COUNTIFS($G$3:$G110,$G110,$F$3:$F110,$F110)>3,"",_xlfn.TEXTJOIN(" ",,COUNTIFS($G$3:$G110,$G110,$F$3:$F110,$F110)&IF(AND(MOD(ABS(COUNTIFS($G$3:$G110,$G110,$F$3:$F110,$F110)),100)>10,MOD(ABS(COUNTIFS($G$3:$G110,$G110,$F$3:$F110,$F110)),100)<14),"th",CHOOSE(MOD(ABS(COUNTIFS($G$3:$G110,$G110,$F$3:$F110,$F110)),10)+1,"th","st","nd","rd","th","th","th","th","th","th")),$F110,IF($G110="Male","Men","Lady"))))
A111: 111 | B111: No Card | I111: 0.044968981 | J111: =IF(OR('10km'!$F111="",'10km'!$G111="",'10km'!$I111=""),"",IF(COUNTIFS($G$3:$G111,$G111,$F$3:$F111,$F111)>3,"",_xlfn.TEXTJOIN(" ",,COUNTIFS($G$3:$G111,$G111,$F$3:$F111,$F111)&IF(AND(MOD(ABS(COUNTIFS($G$3:$G111,$G111,$F$3:$F111,$F111)),100)>10,MOD(ABS(COUNTIFS($G$3:$G111,$G111,$F$3:$F111,$F111)),100)<14),"th",CHOOSE(MOD(ABS(COUNTIFS($G$3:$G111,$G111,$F$3:$F111,$F111)),10)+1,"th","st","nd","rd","th","th","th","th","th","th")),$F111,IF($G111="Male","Men","Lady"))))
A112: 112 | B112: Elsabe | C112: Badenhorst | D112: Temporary Licence | E112: 1094 | F112: 50+ | G112: Female | H112: 57 | I112: 0.045061806 | J112: =IF(OR('10km'!$F112="",'10km'!$G112="",'10km'!$I112=""),"",IF(COUNTIFS($G$3:$G112,$G112,$F$3:$F112,$F112)>3,"",_xlfn.TEXTJOIN(" ",,COUNTIFS($G$3:$G112,$G112,$F$3:$F112,$F112)&IF(AND(MOD(ABS(COUNTIFS($G$3:$G112,$G112,$F$3:$F112,$F112)),100)>10,MOD(ABS(COUNTIFS($G$3:$G112,$G112,$F$3:$F112,$F112)),100)<14),"th",CHOOSE(MOD(ABS(COUNTIFS($G$3:$G112,$G112,$F$3:$F112,$F112)),10)+1,"th","st","nd","rd","th","th","th","th","th","th")),$F112,IF($G112="Male","Men","Lady"))))
...

Sheet Clean
A1: SPAR Valentine's Nite Race (Boland) 10 Km Race 2019-02-13
A2: Position | B2: Name | C2: Surname | D2: Club | E2: Licence No. | F2: Category | G2: Gender | H2: Age | I2: Race Time | J2: Time Clear | K2: Comments
A3: 1 | B3: Nkosinathi | C3: Madyo | D3: Itheko | E3: 3188 | F3: Senior | G3: Male | H3: 31 | I3: 0.021643519 | J3: 0.021643519 | K3: 1st Senior Men
A4: 2 | B4: Danzil | C4: Smith | D4: Sanlam | E4: 4555 | F4: Senior | G4: Male | H4: 25 | I4: 0.021689815 | J4: 0.021689815 | K4: 2nd Senior Men
A5: 3 | B5: Morne | C5: Kammies | D5: Sanlam | E5: 4556 | F5: Senior | G5: Male | H5: 32 | I5: 0.022633333 | J5: 0.022633333 | K5: 3rd Senior Men
A6: 4 | B6: Alantino | C6: Belillie | D6: Sanlam | E6: 4559 | F6: Senior | G6: Male | H6: 20 | I6: 0.022953356 | J6: 0.022953356
A7: 5 | B7: Phillip | D7: Temporary Licence | F7: Senior | G7: Male | H7: 38 | I7: 0.024435185 | J7: 0.024435185
A8: 6 | B8: Neo | C8: Molema | D8: Atlantic Athletic Club | E8: 9205 | F8: 40+ | G8: Male | H8: 42 | I8: 0.024496181 | J8: 0.024496181 | K8: 1st 40+ Men
A9: 7 | B9: No Card | I9: 0.024965741 | J9: 0.024965741
A10: 8 | B10: Freek | C10: Biegenadl | D10: Worcester AC | E10: 596 | F10: Junior | G10: Male | H10: 18 | I10: 0.024971644 | J10: 0.024971644 | K10: 1st Junior Men
A11: 9 | B11: Marqhuin | C11: Smit | D11: Ceres AC | E11: 581 | F11: Junior | G11: Male | H11: 19 | I11: 0.025060301 | J11: 0.025060301 | K11: 2nd Junior Men
A12: 10 | B12: Sollie | C12: Van Rooyen | D12: Robertson AC | E12: 801 | F12: 50+ | G12: Male | H12: 55 | I12: 0.025772569 | J12: 0.025772569 | K12: 1st 50+ Men
A13: 11 | B13: Reginald | C13: Lotz | D13: Temporary Licence | E13: 1070 | F13: Junior | G13: Male | H13: 18 | I13: 0.02647581 | J13: 0.02647581 | K13: 3rd Junior Men
A14: 12 | B14: Morne | C14: Hansen | D14: Maties Stellenbosch AC | E14: 450 | F14: 40+ | G14: Male | H14: 41 | I14: 0.026996875 | J14: 0.026996875 | K14: 2nd 40+ Men
A15: 13 | B15: Henriko | C15: Oberholzer | D15: Worcester AC | E15: 541 | F15: Senior | G15: Male | H15: 23 | I15: 0.027501157 | J15: 0.027501157
A16: 14 | B16: Rowan | C16: Prins | D16: Robertson AC | E16: 809 | F16: Senior | G16: Male | H16: 31 | I16: 0.027518171 | J16: 0.027518171
A17: 15 | B17: Phillip | C17: Naude | D17: Temporary Licence | E17: 1104 | F17: Senior | G17: Male | H17: 30 | I17: 0.028009838 | J17: 0.028009838
A18: 16 | B18: Ashwill | C18: Appolis | D18: Worcester AC | E18: 463 | F18: Junior | G18: Male | H18: 19 | I18: 0.028210301 | J18: 0.028210301
A19: 17 | B19: Hennie | C19: Moses | D19: Ceres AC | E19: 587 | F19: 50+ | G19: Male | H19: 59 | I19: 0.02837581 | J19: 0.02837581 | K19: 2nd 50+ Men
A20: 18 | B20: Thomas | C20: Moses | D20: Worcester AC | E20: 494 | F20: 60+ | G20: Male | H20: 62 | I20: 0.028388079 | J20: 0.028388079 | K20: 1st 60+ Men
A21: 19 | B21: Ann Maree | C21: Mostert | D21: Temporary Licence | E21: 1060 | F21: 40+ | G21: Female | H21: 44 | I21: 0.028553356 | J21: 0.028553356 | K21: 1st 40+ Lady
A22: 20 | B22: Marshall | C22: Fransman | D22: Herbalife Sports Club | E22: 9553 | F22: 50+ | G22: Male | H22: 52 | I22: 0.028588079 | J22: 0.028588079 | K22: 3rd 50+ Men
A23: 21 | B23: Meagan | C23: Swanepoel | D23: Maties Stellenbosch AC | E23: 1994 | F23: Junior | G23: Female | H23: 18 | I23: 0.028820949 | J23: 0.028820949 | K23: 1st Junior Lady
A24: 22 | B24: Michelle | C24: Marais | D24: Temporary Licence | E24: 1120 | F24: Senior | G24: Female | H24: 21 | I24: 0.029065278 | J24: 0.029065278 | K24: 1st Senior Lady
A25: 23 | B25: Richard | C25: Jacobs | D25: Worcester AC | E25: 484 | F25: 50+ | G25: Male | H25: 56 | I25: 0.029458333 | J25: 0.029458333
A26: 24 | B26: Nicolaas | C26: Kees | D26: Ashton AC | E26: 2017 | F26: 50+ | G26: Male | H26: 56 | I26: 0.030059606 | J26: 0.030059606
A27: 25 | B27: Inus | C27: Schoonraad | D27: Temporary Licence | E27: 1054 | F27: Senior | G27: Male | H27: 24 | I27: 0.030522685 | J27: 0.030522685
A28: 26 | B28: Sharlan | C28: Boer | D28: Maties Stellenbosch AC | E28: 453 | F28: Senior | G28: Female | H28: 20 | I28: 0.030557407 | J28: 0.030557407 | K28: 2nd Senior Lady
A29: 27 | B29: Rico | C29: Hunter | D29: Worcester AC | E29: 564 | F29: Senior | G29: Male | H29: 27 | I29: 0.030679398 | J29: 0.030679398
A30: 28 | B30: Marriette | C30: Strauss | D30: Tygerberg Athletic Club | E30: 4242 | F30: 50+ | G30: Female | H30: 56 | I30: 0.030934375 | J30: 0.030934375 | K30: 1st 50+ Lady
A31: 29 | B31: Nicolene | D31: Temporary Licence | E31: 1076 | F31: Senior | G31: Female | H31: 25 | I31: 0.031005787 | J31: 0.031005787 | K31: 3rd Senior Lady
A32: 30 | B32: Suzanne | C32: King | D32: Strand Athletic Club | E32: 3048 | F32: 40+ | G32: Female | H32: 47 | I32: 0.031026736 | J32: 0.031026736 | K32: 2nd 40+ Lady
A33: 31 | B33: Phenyo | C33: Peloenk | D33: Langa | E33: 9529 | F33: Senior | G33: Male | H33: 35 | I33: 0.031158912 | J33: 0.031158912
A34: 32 | B34: R. A | C34: Morrison | D34: Saps wp | E34: 6293 | F34: 50+ | G34: Male | H34: 54 | I34: 0.031833333 | J34: 0.031833333
A35: 33 | B35: Andries | C35: Swarts | D35: Ceres AC | E35: 579 | F35: 50+ | G35: Male | H35: 55 | I35: 0.032165509 | J35: 0.032165509
A36: 34 | B36: Jaco | C36: Engelbrecht | D36: Worcester AC | E36: 568 | F36: Senior | G36: Male | H36: 33 | I36: 0.032574537 | J36: 0.032574537
A37: 35 | B37: Ronelda | C37: Vellem | D37: Maties Stellenbosch AC | E37: 1850 | F37: Junior | G37: Female | H37: 19 | I37: 0.032601505 | J37: 0.032601505 | K37: 2nd Junior Lady
A38: 36 | B38: Phillip-John | C38: Du Toit | D38: Nedbank WP | E38: 2201 | F38: Senior | G38: Male | H38: 26 | I38: 0.032610764 | J38: 0.032610764
A39: 37 | B39: Leon | C39: Janse van Rensburg | D39: Nedbank WP | E39: 2150 | F39: Senior | G39: Male | H39: 26 | I39: 0.032767361 | J39: 0.032767361
A40: 38 | B40: Chestley | C40: Saaiman | D40: Temporary Licence | E40: 1056 | F40: Senior | G40: Male | H40: 30 | I40: 0.033074306 | J40: 0.033074306
A41: 39 | B41: Abigail | C41: Botes | D41: Maties Stellenbosch AC | E41: 1842 | F41: Junior | G41: Female | H41: 18 | I41: 0.033339931 | J41: 0.033339931 | K41: 3rd Junior Lady
A42: 40 | B42: Christo | C42: Lourens | D42: Brackenfell Athletic Club | E42: 9602 | F42: Senior | G42: Male | H42: 28 | I42: 0.033437731 | J42: 0.033437731
A43: 41 | B43: Reganald | C43: Crowster | D43: Tygerberg Athletic Club | E43: 5599 | F43: 50+ | G43: Male | H43: 56 | I43: 0.033467593 | J43: 0.033467593
A44: 42 | B44: Hernus | C44: Kotze | D44: Correctional Services (Boland) | E44: 1735 | F44: 40+ | G44: Male | H44: 43 | I44: 0.033496644 | J44: 0.033496644 | K44: 3rd 40+ Men
A45: 43 | B45: C | C45: Muller | D45: Oxford Striders | E45: 80 | F45: 50+ | G45: Male | H45: 50 | I45: 0.033516204 | J45: 0.033516204
A46: 44 | B46: Cailey | C46: Bredenkamp | D46: Paarl AC | E46: 215 | F46: 50+ | G46: Female | H46: 55 | I46: 0.033851736 | J46: 0.033851736 | K46: 2nd 50+ Lady
A47: 45 | B47: Chris | C47: Lourens | D47: Brackenfell Athletic Club | E47: 9601 | F47: 60+ | G47: Male | H47: 63 | I47: 0.034016782 | J47: 0.034016782 | K47: 2nd 60+ Men
A48: 46 | B48: Colin | C48: Anthony | D48: Correctional Services (Boland) | E48: 1211 | F48: 50+ | G48: Male | H48: 57 | I48: 0.034097338 | J48: 0.034097338
A49: 47 | B49: Lola | C49: van der Merwe | D49: Temporary Licence | F49: 40+ | G49: Female | H49: 42 | I49: 0.034403472 | J49: 0.034403472 | K49: 3rd 40+ Lady
A50: 48 | B50: Maryna | C50: Bingle | D50: Cape Multi Sport | E50: 7571 | F50: 50+ | G50: Female | H50: 54 | I50: 0.034907639 | J50: 0.034907639 | K50: 3rd 50+ Lady
A51: 49 | B51: Jasper | C51: Hewitt | D51: Worcester AC | F51: 40+ | G51: Male | H51: 48 | I51: 0.035035301 | J51: 0.035035301
A52: 50 | B52: J | C52: Davel | D52: Temporary Licence | F52: 60+ | G52: Male | H52: 65 | I52: 0.035066782 | J52: 0.035066782 | K52: 3rd 60+ Men
A53: 51 | B53: Judith | C53: Grove | D53: Tygerberg Athletic Club | E53: 5553 | F53: 60+ | G53: Female | H53: 65 | I53: 0.035754745 | J53: 0.035754745 | K53: 1st 60+ Lady
A54: 52 | B54: Stephan | C54: Swanepoel | D54: Temporary Licence | E54: 1105 | F54: Senior | G54: Male | H54: 32 | I54: 0.036200926 | J54: 0.036200926
A55: 53 | B55: Siyanda | D55: Temporary Licence | E55: 1059 | F55: Senior | G55: Male | H55: 27 | I55: 0.036278125 | J55: 0.036278125
A56: 54 | B56: Andrew | C56: Coetzee | D56: Temporary Licence | F56: Senior | G56: Male | H56: 30 | I56: 0.036430556 | J56: 0.036430556
A57: 55 | B57: Chris | C57: Byleveld | D57: Temporary Licence | E57: 1177 | F57: 40+ | G57: Male | H57: 47 | I57: 0.036453704 | J57: 0.036453704
A58: 56 | B58: Dumisani | C58: Mapete | D58: Correctional Services (Boland) | E58: 1131 | F58: 40+ | G58: Male | H58: 43 | I58: 0.036473727 | J58: 0.036473727
A59: 57 | B59: M | C59: Wessels | D59: Temporary Licence | F59: 50+ | G59: Female | H59: 55 | I59: 0.036490162 | J59: 0.036490162
A60: 58 | B60: No Card | I60: 0.036520833 | J60: 0.036520833
A61: 59 | B61: Natale | C61: Roelofse | D61: Worcester AC | E61: 511 | F61: 60+ | G61: Male | H61: 65 | I61: 0.036534722 | J61: 0.036534722
A62: 60 | B62: Danie | C62: Du Plessis | D62: Temporary Licence | E62: 1089 | F62: 50+ | G62: Male | H62: 50 | I62: 0.036541667 | J62: 0.036541667
A63: 61 | B63: Brian | C63: Rothman | D63: Brackenfell Athletic Club | E63: 9853 | F63: 60+ | G63: Male | H63: 65 | I63: 0.036553935 | J63: 0.036553935
A64: 62 | B64: No Card | I64: 0.03656331 | J64: 0.03656331
A65: 63 | B65: Dennis | C65: Smith | D65: SAPS | F65: 50+ | G65: Male | H65: 54 | I65: 0.03657338 | J65: 0.03657338
A66: 64 | B66: Francois | C66: De Villiers | D66: Ceres AC | E66: 606 | F66: 40+ | G66: Male | H66: 44 | I66: 0.037108333 | J66: 0.037108333
A67: 65 | B67: Rinus | C67: Carstens | D67: Temporary Licence | F67: Senior | G67: Male | H67: 23 | I67: 0.037121875 | J67: 0.037121875
A68: 67 | B68: Willem | C68: Steyn | D68: Worcester AC | E68: 1086 | F68: Senior | G68: Male | H68: 25 | I68: 0.037274306 | J68: 0.037274306
A69: 68 | B69: Tariq | C69: Desai | D69: Temporary Licence | E69: 1084 | F69: Senior | G69: Male | H69: 26 | I69: 0.037291667 | J69: 0.037291667
A70: 69 | B70: Marno | C70: Botma | D70: Temporary Licence | F70: Senior | G70: Male | H70: 39 | I70: 0.037336806 | J70: 0.037336806
A71: 70 | B71: Annelise | C71: Krynauw | D71: Temporary Licence | F71: Senior | G71: Female | H71: 39 | I71: 0.037458333 | J71: 0.037458333
A72: 71 | B72: No Card | I72: 0.037796875 | J72: 0.037796875
A73: 72 | B73: Jac | C73: Crafford | D73: Temporary Licence | E73: 1100 | F73: Senior | G73: Male | H73: 29 | I73: 0.038130324 | J73: 0.038130324
A74: 73 | B74: Paul | C74: Farmer | D74: Temporary Licence | E74: 1099 | F74: Senior | G74: Male | H74: 34 | I74: 0.038337037 | J74: 0.038337037
A75: 74 | B75: Vondra | C75: Singleton | D75: Worcester AC | E75: 476 | F75: 50+ | G75: Female | H75: 51 | I75: 0.038572917 | J75: 0.038572917
A76: 75 | B76: Ina | C76: Botma | D76: Temo | F76: Senior | G76: Female | H76: 32 | I76: 0.038593981 | J76: 0.038593981
A77: 76 | B77: V | C77: Gloeck | D77: Temporary Licence | E77: 1052 | F77: Senior | G77: Female | H77: 36 | I77: 0.038815162 | J77: 0.038815162
A78: 77 | B78: Lauren | C78: Meyer | D78: Paarl AC | E78: 935 | F78: Senior | G78: Female | H78: 27 | I78: 0.038923727 | J78: 0.038923727
A79: 78 | B79: Corrie | C79: Rooi | D79: Worcester AC | E79: 492 | F79: 40+ | G79: Male | H79: 49 | I79: 0.038961921 | J79: 0.038961921
A80: 79 | B80: Christopher | C80: Hop | D80: Correctional Services (Boland) | E80: 1202 | F80: Senior | G80: Male | H80: 39 | I80: 0.03923912 | J80: 0.03923912
A81: 80 | B81: Ricardo | C81: Lotz | D81: Temporary Licence | E81: 1069 | F81: Senior | G81: Male | H81: 31 | I81: 0.039472801 | J81: 0.039472801
A82: 81 | B82: Pieter | C82: Johnson | D82: Worcester AC | E82: 518 | F82: 50+ | G82: Male | H82: 57 | I82: 0.040104167 | J82: 0.040104167
A83: 82 | B83: Jaypee | C83: Snyman | D83: Worcester AC | E83: 500 | F83: 50+ | G83: Male | H83: 51 | I83: 0.040209144 | J83: 0.040209144
A84: 83 | B84: No Card | I84: 0.040227546 | J84: 0.040227546
A85: 84 | B85: Abe | C85: Fortuin | D85: Worcester AC | E85: 1077 | F85: 70+ | G85: Male | H85: 70 | I85: 0.040234028 | J85: 0.040234028 | K85: 1st 70+ Men
A86: 85 | B86: Patrick | C86: Aronse | D86: Correctional Services (Boland) | E86: 1192 | F86: 50+ | G86: Male | H86: 50 | I86: 0.040239699 | J86: 0.040239699
A87: 86 | B87: Tersia | C87: Smit | D87: Temporary Licence | E87: 1053 | F87: 40+ | G87: Female | H87: 41 | I87: 0.04024537 | J87: 0.04024537
A88: 87 | B88: J | C88: De Villiers | D88: Temporary Licence | E88: 1107 | F88: Senior | G88: Male | H88: 32 | I88: 0.040252431 | J88: 0.040252431
A89: 88 | B89: Henk | C89: Bos | D89: Montagu AC | E89: 998 | F89: 70+ | G89: Male | H89: 72 | I89: 0.041131597 | J89: 0.041131597 | K89: 2nd 70+ Men
A90: 89 | B90: Lindsay | C90: Du Toit | D90: Temporary Licence | E90: 1111 | F90: 40+ | G90: Male | H90: 40 | I90: 0.041227662 | J90: 0.041227662
A91: 90 | B91: JP | C91: Du Toit | D91: Temporary Licence | E91: 1110 | F91: Senior | G91: Male | H91: 37 | I91: 0.041240278 | J91: 0.041240278
A92: 91 | B92: Spreeth | C92: Neethling | D92: Temporary Licence | E92: 1080 | F92: Senior | G92: Male | H92: 30 | I92: 0.041377778 | J92: 0.041377778
A93: 92 | B93: Elizabeth | C93: Beneke | D93: Temporary Licence | E93: 1106 | F93: Senior | G93: Female | H93: 32 | I93: 0.041634491 | J93: 0.041634491
A94: 93 | B94: Adina | C94: Pienaar | D94: Worcester AC | E94: 517 | F94: Senior | G94: Female | H94: 35 | I94: 0.041788194 | J94: 0.041788194
A95: 94 | B95: Mabuyal | D95: Correctional Services (Boland) | E95: 1213 | F95: Senior | G95: Male | H95: 39 | I95: 0.041800694 | J95: 0.041800694
A96: 95 | B96: Paul | C96: De Wet | D96: Worcester AC | E96: 550 | F96: 70+ | G96: Male | H96: 72 | I96: 0.041815509 | J96: 0.041815509 | K96: 3rd 70+ Men
A97: 96 | B97: Martie | C97: Lourense | D97: Branckenfell | E97: 9603 | F97: 50+ | G97: Female | H97: 59 | I97: 0.041841435 | J97: 0.041841435
A98: 97 | B98: Monique | C98: Venter | D98: Worcester AC | E98: 526 | F98: Senior | G98: Female | H98: 31 | I98: 0.042147917 | J98: 0.042147917
A99: 98 | B99: Abel | C99: van der Merwe | D99: Temporary Licence | E99: 1059 | F99: 60+ | G99: Male | H99: 62 | I99: 0.042789352 | J99: 0.042789352
A100: 99 | B100: Bettie | C100: Du Plessis | D100: Franschhoek AC | F100: Senior | G100: Female | I100: 0.043003472 | J100: 0.043003472
...
