Workbook
Name RaceName: '[1]Race Details'!$B$4 &" ("&'[1]Race Details'!$B$3&") "&'[1]Race Details'!$B$6&" Km Race"& " "&TEXT('[1]Race Details'!$B$5,"yyyy-mm-dd")

Sheet 10km
A1: =RaceName -> SPAR Valentine's Nite Race (Boland) 10 Km Race 2019-02-13
A2: Position | B2: Name | C2: Surname | D2: Club | E2: Licence No. | F2: Category | G2: Gender | H2: Age | I2: Race Time | J2: Comments
A3: 1 | B3: Nkosinathi | C3: Madyo | D3: Itheko | E3: 3188 | F3: Senior | G3: Male | H3: 31 | I3: 0.021643519 | J3: =IF(OR('10km'!$F3="",'10km'!$G3="",'10km'!$I3=""),"",IF(COUNTIFS($G$3:$G3,$G3,$F$3:$F3,$F3)>3,"",_xlfn.TEXTJOIN(" ",,COUNTIFS($G$3:$G3,$G3,$F$3:$F3,$F3)&IF(AND(MOD(ABS(COUNTIFS($G$3:$G3,$G3,$F$3:$F3,$F3)),100)>10,MOD(ABS(COUNTIFS($G$3:$G3,$G3,$F$3:$F3,$F3)),100)<14),"th",CHOOSE(MOD(ABS(COUNTIFS($G$3:$G3,$G3,$F$3:$F3,$F3)),10)+1,"th","st","nd","rd","th","th","th","th","th","th")),$F3,IF($G3="Male","Men","Lady")))) -> 1st Senior Men
A4: 2 | B4: Danzil | C4: Smith | D4: Sanlam | E4: 4555 | F4: Senior | G4: Male | H4: 25 | I4: 0.021689815 | J4: =IF(OR('10km'!$F4="",'10km'!$G4="",'10km'!$I4=""),"",IF(COUNTIFS($G$3:$G4,$G4,$F$3:$F4,$F4)>3,"",_xlfn.TEXTJOIN(" ",,COUNTIFS($G$3:$G4,$G4,$F$3:$F4,$F4)&IF(AND(MOD(ABS(COUNTIFS($G$3:$G4,$G4,$F$3:$F4,$F4)),100)>10,MOD(ABS(COUNTIFS($G$3:$G4,$G4,$F$3:$F4,$F4)),100)<14),"th",CHOOSE(MOD(ABS(COUNTIFS($G$3:$G4,$G4,$F$3:$F4,$F4)),10)+1,"th","st","nd","rd","th","th","th","th","th","th")),$F4,IF($G4="Male","Men","Lady")))) -> 2nd Senior Men
A5: 3 | B5: Morne | C5: Kammies | D5: Sanlam | E5: 4556 | F5: Senior | G5: Male | H5: 32 | I5: 0.022633333 | J5: =IF(OR('10km'!$F5="",'10km'!$G5="",'10km'!$I5=""),"",IF(COUNTIFS($G$3:$G5,$G5,$F$3:$F5,$F5)>3,"",_xlfn.TEXTJOIN(" ",,COUNTIFS($G$3:$G5,$G5,$F$3:$F5,$F5)&IF(AND(MOD(ABS(COUNTIFS($G$3:$G5,$G5,$F$3:$F5,$F5)),100)>10,MOD(ABS(COUNTIFS($G$3:$G5,$G5,$F$3:$F5,$F5)),100)<14),"th",CHOOSE(MOD(ABS(COUNTIFS($G$3:$G5,$G5,$F$3:$F5,$F5)),10)+1,"th","st","nd","rd","th","th","th","th","th","th")),$F5,IF($G5="Male","Men","Lady")))) -> 3rd Senior Men
A6: 4 | B6: Alantino | C6: Belillie | D6: Sanlam | E6: 4559 | F6: Senior | G6: Male | H6: 20 | I6: 0.022953356 | J6: =IF(OR('10km'!$F6="",'10km'!$G6="",'10km'!$I6=""),"",IF(COUNTIFS($G$3:$G6,$G6,$F$3:$F6,$F6)>3,"",_xlfn.TEXTJOIN(" ",,COUNTIFS($G$3:$G6,$G6,$F$3:$F6,$F6)&IF(AND(MOD(ABS(COUNTIFS($G$3:$G6,$G6,$F$3:$F6,$F6)),100)>10,MOD(ABS(COUNTIFS($G$3:$G6,$G6,$F$3:$F6,$F6)),100)<14),"th",CHOOSE(MOD(ABS(COUNTIFS($G$3:$G6,$G6,$F$3:$F6,$F6)),10)+1,"th","st","nd","rd","th","th","th","th","th","th")),$F6,IF($G6="Male","Men","Lady"))))
A7: 5 | B7: Phillip | D7: Temporary Licence | F7: Senior | G7: Male | H7: 38 | I7: 0.024435185 | J7: =IF(OR('10km'!$F7="",'10km'!$G7="",'10km'!$I7=""),"",IF(COUNTIFS($G$3:$G7,$G7,$F$3:$F7,$F7)>3,"",_xlfn.TEXTJOIN(" ",,COUNTIFS($G$3:$G7,$G7,$F$3:$F7,$F7)&IF(AND(MOD(ABS(COUNTIFS($G$3:$G7,$G7,$F$3:$F7,$F7)),100)>10,MOD(ABS(COUNTIFS($G$3:$G7,$G7,$F$3:$F7,$F7)),100)<14),"th",CHOOSE(MOD(ABS(COUNTIFS($G$3:$G7,$G7,$F$3:$F7,$F7)),10)+1,"th","st","nd","rd","th","th","th","th","th","th")),$F7,IF($G7="Male","Men","Lady"))))
A8: 6 | B8: Neo | C8: Molema | D8: Atlantic Athletic Club | E8: 9205 | F8: 40+ | G8: Male | H8: 42 | I8: 0.024496181 | J8: =IF(OR('10km'!$F8="",'10km'!$G8="",'10km'!$I8=""),"",IF(COUNTIFS($G$3:$G8,$G8,$F$3:$F8,$F8)>3,"",_xlfn.TEXTJOIN(" ",,COUNTIFS($G$3:$G8,$G8,$F$3:$F8,$F8)&IF(AND(MOD(ABS(COUNTIFS($G$3:$G8,$G8,$F$3:$F8,$F8)),100)>10,MOD(ABS(COUNTIFS($G$3:$G8,$G8,$F$3:$F8,$F8)),100)<14),"th",CHOOSE(MOD(ABS(COUNTIFS($G$3:$G8,$G8,$F$3:$F8,$F8)),10)+1,"th","st","nd","rd","th","th","th","th","th","th")),$F8,IF($G8="Male","Men","Lady")))) -> 1st 40+ Men
A9: 7 | B9: No Card | I9: 0.024965741 | J9: =IF(OR('10km'!$F9="",'10km'!$G9="",'10km'!$I9=""),"",IF(COUNTIFS($G$3:$G9,$G9,$F$3:$F9,$F9)>3,"",_xlfn.TEXTJOIN(" ",,COUNTIFS($G$3:$G9,$G9,$F$3:$F9,$F9)&IF(AND(MOD(ABS(COUNTIFS($G$3:$G9,$G9,$F$3:$F9,$F9)),100)>10,MOD(ABS(COUNTIFS($G$3:$G9,$G9,$F$3:$F9,$F9)),100)<14),"th",CHOOSE(MOD(ABS(COUNTIFS($G$3:$G9,$G9,$F$3:$F9,$F9)),10)+1,"th","st","nd","rd","th","th","th","th","th","th")),$F9,IF($G9="Male","Men","Lady"))))
A10: 8 | B10: Freek | C10: Biegenadl | D10: Worcester AC | E10: 596 | F10: Junior | G10: Male | H10: 18 | I10: 0.024971644 | J10: =IF(OR('10km'!$F10="",'10km'!$G10="",'10km'!$I10=""),"",IF(COUNTIFS($G$3:$G10,$G10,$F$3:$F10,$F10)>3,"",_xlfn.TEXTJOIN(" ",,COUNTIFS($G$3:$G10,$G10,$F$3:$F10,$F10)&IF(AND(MOD(ABS(COUNTIFS($G$3:$G10,$G10,$F$3:$F10,$F10)),100)>10,MOD(ABS(COUNTIFS($G$3:$G10,$G10,$F$3:$F10,$F10)),100)<14),"th",CHOOSE(MOD(ABS(COUNTIFS($G$3:$G10,$G10,$F$3:$F10,$F10)),10)+1,"th","st","nd","rd","th","th","th","th","th","th")),$F10,IF($G10="Male","Men","Lady")))) -> 1st Junior Men
A11: 9 | B11: Marqhuin | C11: Smit | D11: Ceres AC | E11: 581 | F11: Junior | G11: Male | H11: 19 | I11: 0.025060301 | J11: =IF(OR('10km'!$F11="",'10km'!$G11="",'10km'!$I11=""),"",IF(COUNTIFS($G$3:$G11,$G11,$F$3:$F11,$F11)>3,"",_xlfn.TEXTJOIN(" ",,COUNTIFS($G$3:$G11,$G11,$F$3:$F11,$F11)&IF(AND(MOD(ABS(COUNTIFS($G$3:$G11,$G11,$F$3:$F11,$F11)),100)>10,MOD(ABS(COUNTIFS($G$3:$G11,$G11,$F$3:$F11,$F11)),100)<14),"th",CHOOSE(MOD(ABS(COUNTIFS($G$3:$G11,$G11,$F$3:$F11,$F11)),10)+1,"th","st","nd","rd","th","th","th","th","th","th")),$F11,IF($G11="Male","Men","Lady")))) -> 2nd Junior Men
A12: 10 | B12: Sollie | C12: Van Rooyen | D12: Robertson AC | E12: 801 | F12: 50+ | G12: Male | H12: 55 | I12: 0.025772569 | J12: =IF(OR('10km'!$F12="",'10km'!$G12="",'10km'!$I12=""),"",IF(COUNTIFS($G$3:$G12,$G12,$F$3:$F12,$F12)>3,"",_xlfn.TEXTJOIN(" ",,COUNTIFS($G$3:$G12,$G12,$F$3:$F12,$F12)&IF(AND(MOD(ABS(COUNTIFS($G$3:$G12,$G12,$F$3:$F12,$F12)),100)>10,MOD(ABS(COUNTIFS($G$3:$G12,$G12,$F$3:$F12,$F12)),100)<14),"th",CHOOSE(MOD(ABS(COUNTIFS($G$3:$G12,$G12,$F$3:$F12,$F12)),10)+1,"th","st","nd","rd","th","th","th","th","th","th")),$F12,IF($G12="Male","Men","Lady")))) -> 1st 50+ Men
A13: 11 | B13: Reginald | C13: Lotz | D13: Temporary Licence | E13: 1070 | F13: Junior | G13: Male | H13: 18 | I13: 0.02647581 | J13: =IF(OR('10km'!$F13="",'10km'!$G13="",'10km'!$I13=""),"",IF(COUNTIFS($G$3:$G13,$G13,$F$3:$F13,$F13)>3,"",_xlfn.TEXTJOIN(" ",,COUNTIFS($G$3:$G13,$G13,$F$3:$F13,$F13)&IF(AND(MOD(ABS(COUNTIFS($G$3:$G13,$G13,$F$3:$F13,$F13)),100)>10,MOD(ABS(COUNTIFS($G$3:$G13,$G13,$F$3:$F13,$F13)),100)<14),"th",CHOOSE(MOD(ABS(COUNTIFS($G$3:$G13,$G13,$F$3:$F13,$F13)),10)+1,"th","st","nd","rd","th","th","th","th","th","th")),$F13,IF($G13="Male","Men","Lady")))) -> 3rd Junior Men
A14: 12 | B14: Morne | C14: Hansen | D14: Maties Stellenbosch AC | E14: 450 | F14: 40+ | G14: Male | H14: 41 | I14: 0.026996875 | J14: =IF(OR('10km'!$F14="",'10km'!$G14="",'10km'!$I14=""),"",IF(COUNTIFS($G$3:$G14,$G14,$F$3:$F14,$F14)>3,"",_xlfn.TEXTJOIN(" ",,COUNTIFS($G$3:$G14,$G14,$F$3:$F14,$F14)&IF(AND(MOD(ABS(COUNTIFS($G$3:$G14,$G14,$F$3:$F14,$F14)),100)>10,MOD(ABS(COUNTIFS($G$3:$G14,$G14,$F$3:$F14,$F14)),100)<14),"th",CHOOSE(MOD(ABS(COUNTIFS($G$3:$G14,$G14,$F$3:$F14,$F14)),10)+1,"th","st","nd","rd","th","th","th","th","th","th")),$F14,IF($G14="Male","Men","Lady")))) -> 2nd 40+ Men
A15: 13 | B15: Henriko | C15: Oberholzer | D15: Worcester AC | E15: 541 | F15: Senior | G15: Male | H15: 23 | I15: 0.027501157 | J15: =IF(OR('10km'!$F15="",'10km'!$G15="",'10km'!$I15=""),"",IF(COUNTIFS($G$3:$G15,$G15,$F$3:$F15,$F15)>3,"",_xlfn.TEXTJOIN(" ",,COUNTIFS($G$3:$G15,$G15,$F$3:$F15,$F15)&IF(AND(MOD(ABS(COUNTIFS($G$3:$G15,$G15,$F$3:$F15,$F15)),100)>10,MOD(ABS(COUNTIFS($G$3:$G15,$G15,$F$3:$F15,$F15)),100)<14),"th",CHOOSE(MOD(ABS(COUNTIFS($G$3:$G15,$G15,$F$3:$F15,$F15)),10)+1,"th","st","nd","rd","th","th","th","th","th","th")),$F15,IF($G15="Male","Men","Lady"))))
A16: 14 | B16: Rowan | C16: Prins | D16: Robertson AC | E16: 809 | F16: Senior | G16: Male | H16: 31 | I16: 0.027518171 | J16: =IF(OR('10km'!$F16="",'10km'!$G16="",'10km'!$I16=""),"",IF(COUNTIFS($G$3:$G16,$G16,$F$3:$F16,$F16)>3,"",_xlfn.TEXTJOIN(" ",,COUNTIFS($G$3:$G16,$G16,$F$3:$F16,$F16)&IF(AND(MOD(ABS(COUNTIFS($G$3:$G16,$G16,$F$3:$F16,$F16)),100)>10,MOD(ABS(COUNTIFS($G$3:$G16,$G16,$F$3:$F16,$F16)),100)<14),"th",CHOOSE(MOD(ABS(COUNTIFS($G$3:$G16,$G16,$F$3:$F16,$F16)),10)+1,"th","st","nd","rd","th","th","th","th","th","th")),$F16,IF($G16="Male","Men","Lady"))))
A17: 15 | B17: Phillip | C17: Naude | D17: Temporary Licence | E17: 1104 | F17: Senior | G17: Male | H17: 30 | I17: 0.028009838 | J17: =IF(OR('10km'!$F17="",'10km'!$G17="",'10km'!$I17=""),"",IF(COUNTIFS($G$3:$G17,$G17,$F$3:$F17,$F17)>3,"",_xlfn.TEXTJOIN(" ",,COUNTIFS($G$3:$G17,$G17,$F$3:$F17,$F17)&IF(AND(MOD(ABS(COUNTIFS($G$3:$G17,$G17,$F$3:$F17,$F17)),100)>10,MOD(ABS(COUNTIFS($G$3:$G17,$G17,$F$3:$F17,$F17)),100)<14),"th",CHOOSE(MOD(ABS(COUNTIFS($G$3:$G17,$G17,$F$3:$F17,$F17)),10)+1,"th","st","nd","rd","th","th","th","th","th","th")),$F17,IF($G17="Male","Men","Lady"))))
A18: 16 | B18: Ashwill | C18: Appolis | D18: Worcester AC | E18: 463 | F18: Junior | G18: Male | H18: 19 | I18: 0.028210301 | J18: =IF(OR('10km'!$F18="",'10km'!$G18="",'10km'!$I18=""),"",IF(COUNTIFS($G$3:$G18,$G18,$F$3:$F18,$F18)>3,"",_xlfn.TEXTJOIN(" ",,COUNTIFS($G$3:$G18,$G18,$F$3:$F18,$F18)&IF(AND(MOD(ABS(COUNTIFS($G$3:$G18,$G18,$F$3:$F18,$F18)),100)>10,MOD(ABS(COUNTIFS($G$3:$G18,$G18,$F$3:$F18,$F18)),100)<14),"th",CHOOSE(MOD(ABS(COUNTIFS($G$3:$G18,$G18,$F$3:$F18,$F18)),10)+1,"th","st","nd","rd","th","th","th","th","th","th")),$F18,IF($G18="Male","Men","Lady"))))
A19: 17 | B19: Hennie | C19: Moses | D19: Ceres AC | E19: 587 | F19: 50+ | G19: Male | H19: 59 | I19: 0.02837581 | J19: =IF(OR('10km'!$F19="",'10km'!$G19="",'10km'!$I19=""),"",IF(COUNTIFS($G$3:$G19,$G19,$F$3:$F19,$F19)>3,"",_xlfn.TEXTJOIN(" ",,COUNTIFS($G$3:$G19,$G19,$F$3:$F19,$F19)&IF(AND(MOD(ABS(COUNTIFS($G$3:$G19,$G19,$F$3:$F19,$F19)),100)>10,MOD(ABS(COUNTIFS($G$3:$G19,$G19,$F$3:$F19,$F19)),100)<14),"th",CHOOSE(MOD(ABS(COUNTIFS($G$3:$G19,$G19,$F$3:$F19,$F19)),10)+1,"th","st","nd","rd","th","th","th","th","th","th")),$F19,IF($G19="Male","Men","Lady")))) -> 2nd 50+ Men
A20: 18 | B20: Thomas | C20: Moses | D20: Worcester AC | E20: 494 | F20: 60+ | G20: Male | H20: 62 | I20: 0.028388079 | J20: =IF(OR('10km'!$F20="",'10km'!$G20="",'10km'!$I20=""),"",IF(COUNTIFS($G$3:$G20,$G20,$F$3:$F20,$F20)>3,"",_xlfn.TEXTJOIN(" ",,COUNTIFS($G$3:$G20,$G20,$F$3:$F20,$F20)&IF(AND(MOD(ABS(COUNTIFS($G$3:$G20,$G20,$F$3:$F20,$F20)),100)>10,MOD(ABS(COUNTIFS($G$3:$G20,$G20,$F$3:$F20,$F20)),100)<14),"th",CHOOSE(MOD(ABS(COUNTIFS($G$3:$G20,$G20,$F$3:$F20,$F20)),10)+1,"th","st","nd","rd","th","th","th","th","th","th")),$F20,IF($G20="Male","Men","Lady")))) -> 1st 60+ Men
A21: 19 | B21: Ann Maree | C21: Mostert | D21: Temporary Licence | E21: 1060 | F21: 40+ | G21: Female | H21: 44 | I21: 0.028553356 | J21: =IF(OR('10km'!$F21="",'10km'!$G21="",'10km'!$I21=""),"",IF(COUNTIFS($G$3:$G21,$G21,$F$3:$F21,$F21)>3,"",_xlfn.TEXTJOIN(" ",,COUNTIFS($G$3:$G21,$G21,$F$3:$F21,$F21)&IF(AND(MOD(ABS(COUNTIFS($G$3:$G21,$G21,$F$3:$F21,$F21)),100)>10,MOD(ABS(COUNTIFS($G$3:$G21,$G21,$F$3:$F21,$F21)),100)<14),"th",CHOOSE(MOD(ABS(COUNTIFS($G$3:$G21,$G21,$F$3:$F21,$F21)),10)+1,"th","st","nd","rd","th","th","th","th","th","th")),$F21,IF($G21="Male","Men","Lady")))) -> 1st 40+ Lady
... A30: 28 | B30: Marriette | C30: Strauss | D30: Tygerberg Athletic Club | E30: 4242 | F30: 50+ | G30: Female | H30: 56 | I30: 0.030934375 | J30: =IF(OR('10km'!$F30="",'10km'!$G30="",'10km'!$I30=""),"",IF(COUNTIFS($G$3:$G30,$G30,$F$3:$F30,$F30)>3,"",_xlfn.TEXTJOIN(" ",,COUNTIFS($G$3:$G30,$G30,$F$3:$F30,$F30)&IF(AND(MOD(ABS(COUNTIFS($G$3:$G30,$G30,$F$3:$F30,$F30)),100)>10,MOD(ABS(COUNTIFS($G$3:$G30,$G30,$F$3:$F30,$F30)),100)<14),"th",CHOOSE(MOD(ABS(COUNTIFS($G$3:$G30,$G30,$F$3:$F30,$F30)),10)+1,"th","st","nd","rd","th","th","th","th","th","th")),$F30,IF($G30="Male","Men","Lady")))) -> 1st 50+ Lady
A31: 29 | B31: Nicolene | D31: Temporary Licence | E31: 1076 | F31: Senior | G31: Female | H31: 25 | I31: 0.031005787 | J31: =IF(OR('10km'!$F31="",'10km'!$G31="",'10km'!$I31=""),"",IF(COUNTIFS($G$3:$G31,$G31,$F$3:$F31,$F31)>3,"",_xlfn.TEXTJOIN(" ",,COUNTIFS($G$3:$G31,$G31,$F$3:$F31,$F31)&IF(AND(MOD(ABS(COUNTIFS($G$3:$G31,$G31,$F$3:$F31,$F31)),100)>10,MOD(ABS(COUNTIFS($G$3:$G31,$G31,$F$3:$F31,$F31)),100)<14),"th",CHOOSE(MOD(ABS(COUNTIFS($G$3:$G31,$G31,$F$3:$F31,$F31)),10)+1,"th","st","nd","rd","th","th","th","th","th","th")),$F31,IF($G31="Male","Men","Lady")))) -> 3rd Senior Lady
A32: 30 | B32: Suzanne | C32: King | D32: Strand Athletic Club | E32: 3048 | F32: 40+ | G32: Female | H32: 47 | I32: 0.031026736 | J32: =IF(OR('10km'!$F32="",'10km'!$G32="",'10km'!$I32=""),"",IF(COUNTIFS($G$3:$G32,$G32,$F$3:$F32,$F32)>3,"",_xlfn.TEXTJOIN(" ",,COUNTIFS($G$3:$G32,$G32,$F$3:$F32,$F32)&IF(AND(MOD(ABS(COUNTIFS($G$3:$G32,$G32,$F$3:$F32,$F32)),100)>10,MOD(ABS(COUNTIFS($G$3:$G32,$G32,$F$3:$F32,$F32)),100)<14),"th",CHOOSE(MOD(ABS(COUNTIFS($G$3:$G32,$G32,$F$3:$F32,$F32)),10)+1,"th","st","nd","rd","th","th","th","th","th","th")),$F32,IF($G32="Male","Men","Lady")))) -> 2nd 40+ Lady
A33: 31 | B33: Phenyo | C33: Peloenk | D33: Langa | E33: 9529 | F33: Senior | G33: Male | H33: 35 | I33: 0.031158912 | J33: =IF(OR('10km'!$F33="",'10km'!$G33="",'10km'!$I33=""),"",IF(COUNTIFS($G$3:$G33,$G33,$F$3:$F33,$F33)>3,"",_xlfn.TEXTJOIN(" ",,COUNTIFS($G$3:$G33,$G33,$F$3:$F33,$F33)&IF(AND(MOD(ABS(COUNTIFS($G$3:$G33,$G33,$F$3:$F33,$F33)),100)>10,MOD(ABS(COUNTIFS($G$3:$G33,$G33,$F$3:$F33,$F33)),100)<14),"th",CHOOSE(MOD(ABS(COUNTIFS($G$3:$G33,$G33,$F$3:$F33,$F33)),10)+1,"th","st","nd","rd","th","th","th","th","th","th")),$F33,IF($G33="Male","Men","Lady"))))
A34: 32 | B34: R. A | C34: Morrison | D34: Saps wp | E34: 6293 | F34: 50+ | G34: Male | H34: 54 | I34: 0.031833333 | J34: =IF(OR('10km'!$F34="",'10km'!$G34="",'10km'!$I34=""),"",IF(COUNTIFS($G$3:$G34,$G34,$F$3:$F34,$F34)>3,"",_xlfn.TEXTJOIN(" ",,COUNTIFS($G$3:$G34,$G34,$F$3:$F34,$F34)&IF(AND(MOD(ABS(COUNTIFS($G$3:$G34,$G34,$F$3:$F34,$F34)),100)>10,MOD(ABS(COUNTIFS($G$3:$G34,$G34,$F$3:$F34,$F34)),100)<14),"th",CHOOSE(MOD(ABS(COUNTIFS($G$3:$G34,$G34,$F$3:$F34,$F34)),10)+1,"th","st","nd","rd","th","th","th","th","th","th")),$F34,IF($G34="Male","Men","Lady"))))
A35: 33 | B35: Andries | C35: Swarts | D35: Ceres AC | E35: 579 | F35: 50+ | G35: Male | H35: 55 | I35: 0.032165509 | J35: =IF(OR('10km'!$F35="",'10km'!$G35="",'10km'!$I35=""),"",IF(COUNTIFS($G$3:$G35,$G35,$F$3:$F35,$F35)>3,"",_xlfn.TEXTJOIN(" ",,COUNTIFS($G$3:$G35,$G35,$F$3:$F35,$F35)&IF(AND(MOD(ABS(COUNTIFS($G$3:$G35,$G35,$F$3:$F35,$F35)),100)>10,MOD(ABS(COUNTIFS($G$3:$G35,$G35,$F$3:$F35,$F35)),100)<14),"th",CHOOSE(MOD(ABS(COUNTIFS($G$3:$G35,$G35,$F$3:$F35,$F35)),10)+1,"th","st","nd","rd","th","th","th","th","th","th")),$F35,IF($G35="Male","Men","Lady"))))
A36: 34 | B36: Jaco | C36: Engelbrecht | D36: Worcester AC | E36: 568 | F36: Senior | G36: Male | H36: 33 | I36: 0.032574537 | J36: =IF(OR('10km'!$F36="",'10km'!$G36="",'10km'!$I36=""),"",IF(COUNTIFS($G$3:$G36,$G36,$F$3:$F36,$F36)>3,"",_xlfn.TEXTJOIN(" ",,COUNTIFS($G$3:$G36,$G36,$F$3:$F36,$F36)&IF(AND(MOD(ABS(COUNTIFS($G$3:$G36,$G36,$F$3:$F36,$F36)),100)>10,MOD(ABS(COUNTIFS($G$3:$G36,$G36,$F$3:$F36,$F36)),100)<14),"th",CHOOSE(MOD(ABS(COUNTIFS($G$3:$G36,$G36,$F$3:$F36,$F36)),10)+1,"th","st","nd","rd","th","th","th","th","th","th")),$F36,IF($G36="Male","Men","Lady"))))
A37: 35 | B37: Ronelda | C37: Vellem | D37: Maties Stellenbosch AC | E37: 1850 | F37: Junior | G37: Female | H37: 19 | I37: 0.032601505 | J37: =IF(OR('10km'!$F37="",'10km'!$G37="",'10km'!$I37=""),"",IF(COUNTIFS($G$3:$G37,$G37,$F$3:$F37,$F37)>3,"",_xlfn.TEXTJOIN(" ",,COUNTIFS($G$3:$G37,$G37,$F$3:$F37,$F37)&IF(AND(MOD(ABS(COUNTIFS($G$3:$G37,$G37,$F$3:$F37,$F37)),100)>10,MOD(ABS(COUNTIFS($G$3:$G37,$G37,$F$3:$F37,$F37)),100)<14),"th",CHOOSE(MOD(ABS(COUNTIFS($G$3:$G37,$G37,$F$3:$F37,$F37)),10)+1,"th","st","nd","rd","th","th","th","th","th","th")),$F37,IF($G37="Male","Men","Lady")))) -> 2nd Junior Lady
A38: 36 | B38: Phillip-John | C38: Du Toit | D38: Nedbank WP | E38: 2201 | F38: Senior | G38: Male | H38: 26 | I38: 0.032610764 | J38: =IF(OR('10km'!$F38="",'10km'!$G38="",'10km'!$I38=""),"",IF(COUNTIFS($G$3:$G38,$G38,$F$3:$F38,$F38)>3,"",_xlfn.TEXTJOIN(" ",,COUNTIFS($G$3:$G38,$G38,$F$3:$F38,$F38)&IF(AND(MOD(ABS(COUNTIFS($G$3:$G38,$G38,$F$3:$F38,$F38)),100)>10,MOD(ABS(COUNTIFS($G$3:$G38,$G38,$F$3:$F38,$F38)),100)<14),"th",CHOOSE(MOD(ABS(COUNTIFS($G$3:$G38,$G38,$F$3:$F38,$F38)),10)+1,"th","st","nd","rd","th","th","th","th","th","th")),$F38,IF($G38="Male","Men","Lady"))))
A39: 37 | B39: Leon | C39: Janse van Rensburg | D39: Nedbank WP | E39: 2150 | F39: Senior | G39: Male | H39: 26 | I39: 0.032767361 | J39: =IF(OR('10km'!$F39="",'10km'!$G39="",'10km'!$I39=""),"",IF(COUNTIFS($G$3:$G39,$G39,$F$3:$F39,$F39)>3,"",_xlfn.TEXTJOIN(" ",,COUNTIFS($G$3:$G39,$G39,$F$3:$F39,$F39)&IF(AND(MOD(ABS(COUNTIFS($G$3:$G39,$G39,$F$3:$F39,$F39)),100)>10,MOD(ABS(COUNTIFS($G$3:$G39,$G39,$F$3:$F39,$F39)),100)<14),"th",CHOOSE(MOD(ABS(COUNTIFS($G$3:$G39,$G39,$F$3:$F39,$F39)),10)+1,"th","st","nd","rd","th","th","th","th","th","th")),$F39,IF($G39="Male","Men","Lady"))))
A40: 38 | B40: Chestley | C40: Saaiman | D40: Temporary Licence | E40: 1056 | F40: Senior | G40: Male | H40: 30 | I40: 0.033074306 | J40: =IF(OR('10km'!$F40="",'10km'!$G40="",'10km'!$I40=""),"",IF(COUNTIFS($G$3:$G40,$G40,$F$3:$F40,$F40)>3,"",_xlfn.TEXTJOIN(" ",,COUNTIFS($G$3:$G40,$G40,$F$3:$F40,$F40)&IF(AND(MOD(ABS(COUNTIFS($G$3:$G40,$G40,$F$3:$F40,$F40)),100)>10,MOD(ABS(COUNTIFS($G$3:$G40,$G40,$F$3:$F40,$F40)),100)<14),"th",CHOOSE(MOD(ABS(COUNTIFS($G$3:$G40,$G40,$F$3:$F40,$F40)),10)+1,"th","st","nd","rd","th","th","th","th","th","th")),$F40,IF($G40="Male","Men","Lady"))))
A41: 39 | B41: Abigail | C41: Botes | D41: Maties Stellenbosch AC | E41: 1842 | F41: Junior | G41: Female | H41: 18 | I41: 0.033339931 | J41: =IF(OR('10km'!$F41="",'10km'!$G41="",'10km'!$I41=""),"",IF(COUNTIFS($G$3:$G41,$G41,$F$3:$F41,$F41)>3,"",_xlfn.TEXTJOIN(" ",,COUNTIFS($G$3:$G41,$G41,$F$3:$F41,$F41)&IF(AND(MOD(ABS(COUNTIFS($G$3:$G41,$G41,$F$3:$F41,$F41)),100)>10,MOD(ABS(COUNTIFS($G$3:$G41,$G41,$F$3:$F41,$F41)),100)<14),"th",CHOOSE(MOD(ABS(COUNTIFS($G$3:$G41,$G41,$F$3:$F41,$F41)),10)+1,"th","st","nd","rd","th","th","th","th","th","th")),$F41,IF($G41="Male","Men","Lady")))) -> 3rd Junior Lady
A42: 40 | B42: Christo | C42: Lourens | D42: Brackenfell Athletic Club | E42: 9602 | F42: Senior | G42: Male | H42: 28 | I42: 0.033437731 | J42: =IF(OR('10km'!$F42="",'10km'!$G42="",'10km'!$I42=""),"",IF(COUNTIFS($G$3:$G42,$G42,$F$3:$F42,$F42)>3,"",_xlfn.TEXTJOIN(" ",,COUNTIFS($G$3:$G42,$G42,$F$3:$F42,$F42)&IF(AND(MOD(ABS(COUNTIFS($G$3:$G42,$G42,$F$3:$F42,$F42)),100)>10,MOD(ABS(COUNTIFS($G$3:$G42,$G42,$F$3:$F42,$F42)),100)<14),"th",CHOOSE(MOD(ABS(COUNTIFS($G$3:$G42,$G42,$F$3:$F42,$F42)),10)+1,"th","st","nd","rd","th","th","th","th","th","th")),$F42,IF($G42="Male","Men","Lady"))))
A43: 41 | B43: Reganald | C43: Crowster | D43: Tygerberg Athletic Club | E43: 5599 | F43: 50+ | G43: Male | H43: 56 | I43: 0.033467593 | J43: =IF(OR('10km'!$F43="",'10km'!$G43="",'10km'!$I43=""),"",IF(COUNTIFS($G$3:$G43,$G43,$F$3:$F43,$F43)>3,"",_xlfn.TEXTJOIN(" ",,COUNTIFS($G$3:$G43,$G43,$F$3:$F43,$F43)&IF(AND(MOD(ABS(COUNTIFS($G$3:$G43,$G43,$F$3:$F43,$F43)),100)>10,MOD(ABS(COUNTIFS($G$3:$G43,$G43,$F$3:$F43,$F43)),100)<14),"th",CHOOSE(MOD(ABS(COUNTIFS($G$3:$G43,$G43,$F$3:$F43,$F43)),10)+1,"th","st","nd","rd","th","th","th","th","th","th")),$F43,IF($G43="Male","Men","Lady"))))
... A48: 46 | B48: Colin | C48: Anthony | D48: Correctional Services (Boland) | E48: 1211 | F48: 50+ | G48: Male | H48: 57 | I48: 0.034097338 | J48: =IF(OR('10km'!$F48="",'10km'!$G48="",'10km'!$I48=""),"",IF(COUNTIFS($G$3:$G48,$G48,$F$3:$F48,$F48)>3,"",_xlfn.TEXTJOIN(" ",,COUNTIFS($G$3:$G48,$G48,$F$3:$F48,$F48)&IF(AND(MOD(ABS(COUNTIFS($G$3:$G48,$G48,$F$3:$F48,$F48)),100)>10,MOD(ABS(COUNTIFS($G$3:$G48,$G48,$F$3:$F48,$F48)),100)<14),"th",CHOOSE(MOD(ABS(COUNTIFS($G$3:$G48,$G48,$F$3:$F48,$F48)),10)+1,"th","st","nd","rd","th","th","th","th","th","th")),$F48,IF($G48="Male","Men","Lady"))))
A49: 47 | B49: Lola | C49: van der Merwe | D49: Temporary Licence | F49: 40+ | G49: Female | H49: 42 | I49: 0.034403472 | J49: =IF(OR('10km'!$F49="",'10km'!$G49="",'10km'!$I49=""),"",IF(COUNTIFS($G$3:$G49,$G49,$F$3:$F49,$F49)>3,"",_xlfn.TEXTJOIN(" ",,COUNTIFS($G$3:$G49,$G49,$F$3:$F49,$F49)&IF(AND(MOD(ABS(COUNTIFS($G$3:$G49,$G49,$F$3:$F49,$F49)),100)>10,MOD(ABS(COUNTIFS($G$3:$G49,$G49,$F$3:$F49,$F49)),100)<14),"th",CHOOSE(MOD(ABS(COUNTIFS($G$3:$G49,$G49,$F$3:$F49,$F49)),10)+1,"th","st","nd","rd","th","th","th","th","th","th")),$F49,IF($G49="Male","Men","Lady")))) -> 3rd 40+ Lady
A50: 48 | B50: Maryna | C50: Bingle | D50: Cape Multi Sport | E50: 7571 | F50: 50+ | G50: Female | H50: 54 | I50: 0.034907639 | J50: =IF(OR('10km'!$F50="",'10km'!$G50="",'10km'!$I50=""),"",IF(COUNTIFS($G$3:$G50,$G50,$F$3:$F50,$F50)>3,"",_xlfn.TEXTJOIN(" ",,COUNTIFS($G$3:$G50,$G50,$F$3:$F50,$F50)&IF(AND(MOD(ABS(COUNTIFS($G$3:$G50,$G50,$F$3:$F50,$F50)),100)>10,MOD(ABS(COUNTIFS($G$3:$G50,$G50,$F$3:$F50,$F50)),100)<14),"th",CHOOSE(MOD(ABS(COUNTIFS($G$3:$G50,$G50,$F$3:$F50,$F50)),10)+1,"th","st","nd","rd","th","th","th","th","th","th")),$F50,IF($G50="Male","Men","Lady")))) -> 3rd 50+ Lady
A51: 49 | B51: Jasper | C51: Hewitt | D51: Worcester AC | F51: 40+ | G51: Male | H51: 48 | I51: 0.035035301 | J51: =IF(OR('10km'!$F51="",'10km'!$G51="",'10km'!$I51=""),"",IF(COUNTIFS($G$3:$G51,$G51,$F$3:$F51,$F51)>3,"",_xlfn.TEXTJOIN(" ",,COUNTIFS($G$3:$G51,$G51,$F$3:$F51,$F51)&IF(AND(MOD(ABS(COUNTIFS($G$3:$G51,$G51,$F$3:$F51,$F51)),100)>10,MOD(ABS(COUNTIFS($G$3:$G51,$G51,$F$3:$F51,$F51)),100)<14),"th",CHOOSE(MOD(ABS(COUNTIFS($G$3:$G51,$G51,$F$3:$F51,$F51)),10)+1,"th","st","nd","rd","th","th","th","th","th","th")),$F51,IF($G51="Male","Men","Lady"))))
A52: 50 | B52: J | C52: Davel | D52: Temporary Licence | F52: 60+ | G52: Male | H52: 65 | I52: 0.035066782 | J52: =IF(OR('10km'!$F52="",'10km'!$G52="",'10km'!$I52=""),"",IF(COUNTIFS($G$3:$G52,$G52,$F$3:$F52,$F52)>3,"",_xlfn.TEXTJOIN(" ",,COUNTIFS($G$3:$G52,$G52,$F$3:$F52,$F52)&IF(AND(MOD(ABS(COUNTIFS($G$3:$G52,$G52,$F$3:$F52,$F52)),100)>10,MOD(ABS(COUNTIFS($G$3:$G52,$G52,$F$3:$F52,$F52)),100)<14),"th",CHOOSE(MOD(ABS(COUNTIFS($G$3:$G52,$G52,$F$3:$F52,$F52)),10)+1,"th","st","nd","rd","th","th","th","th","th","th")),$F52,IF($G52="Male","Men","Lady")))) -> 3rd 60+ Men
...

Sheet Clean
A1: SPAR Valentine's Nite Race (Boland) 10 Km Race 2019-02-13
A2: Position | B2: Name | C2: Surname | D2: Club | E2: Licence No. | F2: Category | G2: Gender | H2: Age | I2: Race Time | J2: Time Clear | K2: Comments
A3: 1 | B3: Nkosinathi | C3: Madyo | D3: Itheko | E3: 3188 | F3: Senior | G3: Male | H3: 31 | I3: 0.021643519 | J3: 0.021643519 | K3: 1st Senior Men
A4: 2 | B4: Danzil | C4: Smith | D4: Sanlam | E4: 4555 | F4: Senior | G4: Male | H4: 25 | I4: 0.021689815 | J4: 0.021689815 | K4: 2nd Senior Men
A5: 3 | B5: Morne | C5: Kammies | D5: Sanlam | E5: 4556 | F5: Senior | G5: Male | H5: 32 | I5: 0.022633333 | J5: 0.022633333 | K5: 3rd Senior Men
A6: 4 | B6: Alantino | C6: Belillie | D6: Sanlam | E6: 4559 | F6: Senior | G6: Male | H6: 20 | I6: 0.022953356 | J6: 0.022953356
A7: 5 | B7: Phillip | D7: Temporary Licence | F7: Senior | G7: Male | H7: 38 | I7: 0.024435185 | J7: 0.024435185
A8: 6 | B8: Neo | C8: Molema | D8: Atlantic Athletic Club | E8: 9205 | F8: 40+ | G8: Male | H8: 42 | I8: 0.024496181 | J8: 0.024496181 | K8: 1st 40+ Men
A9: 7 | B9: No Card | I9: 0.024965741 | J9: 0.024965741
A10: 8 | B10: Freek | C10: Biegenadl | D10: Worcester AC | E10: 596 | F10: Junior | G10: Male | H10: 18 | I10: 0.024971644 | J10: 0.024971644 | K10: 1st Junior Men
A11: 9 | B11: Marqhuin | C11: Smit | D11: Ceres AC | E11: 581 | F11: Junior | G11: Male | H11: 19 | I11: 0.025060301 | J11: 0.025060301 | K11: 2nd Junior Men
A12: 10 | B12: Sollie | C12: Van Rooyen | D12: Robertson AC | E12: 801 | F12: 50+ | G12: Male | H12: 55 | I12: 0.025772569 | J12: 0.025772569 | K12: 1st 50+ Men
A13: 11 | B13: Reginald | C13: Lotz | D13: Temporary Licence | E13: 1070 | F13: Junior | G13: Male | H13: 18 | I13: 0.02647581 | J13: 0.02647581 | K13: 3rd Junior Men
A14: 12 | B14: Morne | C14: Hansen | D14: Maties Stellenbosch AC | E14: 450 | F14: 40+ | G14: Male | H14: 41 | I14: 0.026996875 | J14: 0.026996875 | K14: 2nd 40+ Men
A15: 13 | B15: Henriko | C15: Oberholzer | D15: Worcester AC | E15: 541 | F15: Senior | G15: Male | H15: 23 | I15: 0.027501157 | J15: 0.027501157
A16: 14 | B16: Rowan | C16: Prins | D16: Robertson AC | E16: 809 | F16: Senior | G16: Male | H16: 31 | I16: 0.027518171 | J16: 0.027518171
A17: 15 | B17: Phillip | C17: Naude | D17: Temporary Licence | E17: 1104 | F17: Senior | G17: Male | H17: 30 | I17: 0.028009838 | J17: 0.028009838
A18: 16 | B18: Ashwill | C18: Appolis | D18: Worcester AC | E18: 463 | F18: Junior | G18: Male | H18: 19 | I18: 0.028210301 | J18: 0.028210301
A19: 17 | B19: Hennie | C19: Moses | D19: Ceres AC | E19: 587 | F19: 50+ | G19: Male | H19: 59 | I19: 0.02837581 | J19: 0.02837581 | K19: 2nd 50+ Men
A20: 18 | B20: Thomas | C20: Moses | D20: Worcester AC | E20: 494 | F20: 60+ | G20: Male | H20: 62 | I20: 0.028388079 | J20: 0.028388079 | K20: 1st 60+ Men
A21: 19 | B21: Ann Maree | C21: Mostert | D21: Temporary Licence | E21: 1060 | F21: 40+ | G21: Female | H21: 44 | I21: 0.028553356 | J21: 0.028553356 | K21: 1st 40+ Lady
A22: 20 | B22: Marshall | C22: Fransman | D22: Herbalife Sports Club | E22: 9553 | F22: 50+ | G22: Male | H22: 52 | I22: 0.028588079 | J22: 0.028588079 | K22: 3rd 50+ Men
A23: 21 | B23: Meagan | C23: Swanepoel | D23: Maties Stellenbosch AC | E23: 1994 | F23: Junior | G23: Female | H23: 18 | I23: 0.028820949 | J23: 0.028820949 | K23: 1st Junior Lady
A24: 22 | B24: Michelle | C24: Marais | D24: Temporary Licence | E24: 1120 | F24: Senior | G24: Female | H24: 21 | I24: 0.029065278 | J24: 0.029065278 | K24: 1st Senior Lady
A25: 23 | B25: Richard | C25: Jacobs | D25: Worcester AC | E25: 484 | F25: 50+ | G25: Male | H25: 56 | I25: 0.029458333 | J25: 0.029458333
A26: 24 | B26: Nicolaas | C26: Kees | D26: Ashton AC | E26: 2017 | F26: 50+ | G26: Male | H26: 56 | I26: 0.030059606 | J26: 0.030059606
A27: 25 | B27: Inus | C27: Schoonraad | D27: Temporary Licence | E27: 1054 | F27: Senior | G27: Male | H27: 24 | I27: 0.030522685 | J27: 0.030522685
A28: 26 | B28: Sharlan | C28: Boer | D28: Maties Stellenbosch AC | E28: 453 | F28: Senior | G28: Female | H28: 20 | I28: 0.030557407 | J28: 0.030557407 | K28: 2nd Senior Lady
A29: 27 | B29: Rico | C29: Hunter | D29: Worcester AC | E29: 564 | F29: Senior | G29: Male | H29: 27 | I29: 0.030679398 | J29: 0.030679398
A30: 28 | B30: Marriette | C30: Strauss | D30: Tygerberg Athletic Club | E30: 4242 | F30: 50+ | G30: Female | H30: 56 | I30: 0.030934375 | J30: 0.030934375 | K30: 1st 50+ Lady
A31: 29 | B31: Nicolene | D31: Temporary Licence | E31: 1076 | F31: Senior | G31: Female | H31: 25 | I31: 0.031005787 | J31: 0.031005787 | K31: 3rd Senior Lady
A32: 30 | B32: Suzanne | C32: King | D32: Strand Athletic Club | E32: 3048 | F32: 40+ | G32: Female | H32: 47 | I32: 0.031026736 | J32: 0.031026736 | K32: 2nd 40+ Lady
A33: 31 | B33: Phenyo | C33: Peloenk | D33: Langa | E33: 9529 | F33: Senior | G33: Male | H33: 35 | I33: 0.031158912 | J33: 0.031158912
A34: 32 | B34: R. A | C34: Morrison | D34: Saps wp | E34: 6293 | F34: 50+ | G34: Male | H34: 54 | I34: 0.031833333 | J34: 0.031833333
A35: 33 | B35: Andries | C35: Swarts | D35: Ceres AC | E35: 579 | F35: 50+ | G35: Male | H35: 55 | I35: 0.032165509 | J35: 0.032165509
A36: 34 | B36: Jaco | C36: Engelbrecht | D36: Worcester AC | E36: 568 | F36: Senior | G36: Male | H36: 33 | I36: 0.032574537 | J36: 0.032574537
A37: 35 | B37: Ronelda | C37: Vellem | D37: Maties Stellenbosch AC | E37: 1850 | F37: Junior | G37: Female | H37: 19 | I37: 0.032601505 | J37: 0.032601505 | K37: 2nd Junior Lady
A38: 36 | B38: Phillip-John | C38: Du Toit | D38: Nedbank WP | E38: 2201 | F38: Senior | G38: Male | H38: 26 | I38: 0.032610764 | J38: 0.032610764
A39: 37 | B39: Leon | C39: Janse van Rensburg | D39: Nedbank WP | E39: 2150 | F39: Senior | G39: Male | H39: 26 | I39: 0.032767361 | J39: 0.032767361
A40: 38 | B40: Chestley | C40: Saaiman | D40: Temporary Licence | E40: 1056 | F40: Senior | G40: Male | H40: 30 | I40: 0.033074306 | J40: 0.033074306
...
